BEGIN:VCALENDAR
VERSION:2.0
PRODID:-//Explore Downtown YYC - ECPv6.15.18//NONSGML v1.0//EN
CALSCALE:GREGORIAN
METHOD:PUBLISH
X-ORIGINAL-URL:https://exploredowntownyyc.com
X-WR-CALDESC:Events for Explore Downtown YYC
REFRESH-INTERVAL;VALUE=DURATION:PT1H
X-Robots-Tag:noindex
X-PUBLISHED-TTL:PT1H
BEGIN:VTIMEZONE
TZID:UTC
BEGIN:STANDARD
TZOFFSETFROM:+0000
TZOFFSETTO:+0000
TZNAME:UTC
DTSTART:20250101T000000
END:STANDARD
END:VTIMEZONE
BEGIN:VEVENT
DTSTART;TZID=UTC:20260305T110000
DTEND;TZID=UTC:20260305T140000
DTSTAMP:20260419T160000
CREATED:20260223T183001Z
LAST-MODIFIED:20260223T183001Z
UID:10002659-1772708400-1772719200@exploredowntownyyc.com
SUMMARY:International Women’s Day with Making Changes Association
DESCRIPTION:This International Women’s Day\, Making Changes Association (MCA) invites the Calgary community to take part in a meaningful public activation centered on confidence\, opportunity\, and collective impact.
URL:https://exploredowntownyyc.com/event-calendar/international-womens-day-with-making-changes-association/2026-03-05/
LOCATION:The CORE Shopping Centre\, 324 Eighth Ave. S.W.\, Calgary\, Alberta\, T2P 2Z2\, Canada
CATEGORIES:Festivals & Events
ATTACH;FMTTYPE=image/jpeg:https://exploredowntownyyc.com/wp-content/uploads/2026/02/IWD-with-Making-Changes-e1771871392123.jpg
END:VEVENT
BEGIN:VEVENT
DTSTART;TZID=UTC:20260304T110000
DTEND;TZID=UTC:20260304T140000
DTSTAMP:20260419T160000
CREATED:20260223T183001Z
LAST-MODIFIED:20260223T183001Z
UID:10002658-1772622000-1772632800@exploredowntownyyc.com
SUMMARY:International Women’s Day with Making Changes Association
DESCRIPTION:This International Women’s Day\, Making Changes Association (MCA) invites the Calgary community to take part in a meaningful public activation centered on confidence\, opportunity\, and collective impact.
URL:https://exploredowntownyyc.com/event-calendar/international-womens-day-with-making-changes-association/2026-03-04/
LOCATION:The CORE Shopping Centre\, 324 Eighth Ave. S.W.\, Calgary\, Alberta\, T2P 2Z2\, Canada
CATEGORIES:Festivals & Events
ATTACH;FMTTYPE=image/jpeg:https://exploredowntownyyc.com/wp-content/uploads/2026/02/IWD-with-Making-Changes-e1771871392123.jpg
END:VEVENT
BEGIN:VEVENT
DTSTART;TZID=UTC:20260303T110000
DTEND;TZID=UTC:20260303T140000
DTSTAMP:20260419T160000
CREATED:20260223T183001Z
LAST-MODIFIED:20260223T183001Z
UID:10002657-1772535600-1772546400@exploredowntownyyc.com
SUMMARY:International Women’s Day with Making Changes Association
DESCRIPTION:This International Women’s Day\, Making Changes Association (MCA) invites the Calgary community to take part in a meaningful public activation centered on confidence\, opportunity\, and collective impact.
URL:https://exploredowntownyyc.com/event-calendar/international-womens-day-with-making-changes-association/2026-03-03/
LOCATION:The CORE Shopping Centre\, 324 Eighth Ave. S.W.\, Calgary\, Alberta\, T2P 2Z2\, Canada
CATEGORIES:Festivals & Events
ATTACH;FMTTYPE=image/jpeg:https://exploredowntownyyc.com/wp-content/uploads/2026/02/IWD-with-Making-Changes-e1771871392123.jpg
END:VEVENT
END:VCALENDAR