BEGIN:VCALENDAR
VERSION:2.0
PRODID:-//Explore Downtown YYC - ECPv6.15.18//NONSGML v1.0//EN
CALSCALE:GREGORIAN
METHOD:PUBLISH
X-ORIGINAL-URL:https://exploredowntownyyc.com
X-WR-CALDESC:Events for Explore Downtown YYC
REFRESH-INTERVAL;VALUE=DURATION:PT1H
X-Robots-Tag:noindex
X-PUBLISHED-TTL:PT1H
BEGIN:VTIMEZONE
TZID:UTC
BEGIN:STANDARD
TZOFFSETFROM:+0000
TZOFFSETTO:+0000
TZNAME:UTC
DTSTART:20250101T000000
END:STANDARD
END:VTIMEZONE
BEGIN:VEVENT
DTSTART;TZID=UTC:20260719T130000
DTEND;TZID=UTC:20260719T130000
DTSTAMP:20260424T012704
CREATED:20260423T200914Z
LAST-MODIFIED:20260423T201432Z
UID:10002806-1784466000-1784466000@exploredowntownyyc.com
SUMMARY:World Cup Watch Parties - Finals
DESCRIPTION:Watch the 2026 Men’s World Cup Finals at a free outdoor watch party. Catch the finals on Stephen Avenue on July 19.
URL:https://exploredowntownyyc.com/event-calendar/world-cup-watch-parties-finals/
LOCATION:Stephen Avenue\, 340 Eighth Ave. S.W.\, Calgary\, Alberta\, Canada
CATEGORIES:Festivals & Events
ATTACH;FMTTYPE=image/jpeg:https://exploredowntownyyc.com/wp-content/uploads/2026/04/dts-downtown-world-cup-watch-parties-scaled-e1776955613708.jpg
END:VEVENT
END:VCALENDAR