BEGIN:VCALENDAR
VERSION:2.0
PRODID:-//Explore Downtown YYC - ECPv6.15.18//NONSGML v1.0//EN
CALSCALE:GREGORIAN
METHOD:PUBLISH
X-WR-CALNAME:Explore Downtown YYC
X-ORIGINAL-URL:https://exploredowntownyyc.com
X-WR-CALDESC:Events for Explore Downtown YYC
REFRESH-INTERVAL;VALUE=DURATION:PT1H
X-Robots-Tag:noindex
X-PUBLISHED-TTL:PT1H
BEGIN:VTIMEZONE
TZID:UTC
BEGIN:STANDARD
TZOFFSETFROM:+0000
TZOFFSETTO:+0000
TZNAME:UTC
DTSTART:20240101T000000
END:STANDARD
END:VTIMEZONE
BEGIN:VEVENT
DTSTART;TZID=UTC:20251231T200000
DTEND;TZID=UTC:20251231T235900
DTSTAMP:20260419T130918
CREATED:20251128T200852Z
LAST-MODIFIED:20251128T200852Z
UID:10002488-1767211200-1767225540@exploredowntownyyc.com
SUMMARY:Lounge Eighteen: New Year's Eve Hollywood Glam
DESCRIPTION:Celebrate NYE in glam style with a red-carpet entrance\, cocktail hour\, photobooth moments\, and a DJ-led dance floor that goes late into the night.
URL:https://exploredowntownyyc.com/event-calendar/lounge-eighteen-new-years-eve-hollywood-glam/
LOCATION:Lounge Eighteen\, 1005 17 Ave S.W.\, Calgary\, Alberta\, T2T 0A7\, Canada
CATEGORIES:Festivals & Events
ATTACH;FMTTYPE=image/jpeg:https://exploredowntownyyc.com/wp-content/uploads/2025/11/Lounge-Eighteen-New-Years-Eve-Hollywood-Glam.jpg
END:VEVENT
END:VCALENDAR