BEGIN:VCALENDAR
VERSION:2.0
PRODID:-//Explore Downtown YYC - ECPv6.15.18//NONSGML v1.0//EN
CALSCALE:GREGORIAN
METHOD:PUBLISH
X-WR-CALNAME:Explore Downtown YYC
X-ORIGINAL-URL:https://exploredowntownyyc.com
X-WR-CALDESC:Events for Explore Downtown YYC
REFRESH-INTERVAL;VALUE=DURATION:PT1H
X-Robots-Tag:noindex
X-PUBLISHED-TTL:PT1H
BEGIN:VTIMEZONE
TZID:UTC
BEGIN:STANDARD
TZOFFSETFROM:+0000
TZOFFSETTO:+0000
TZNAME:UTC
DTSTART:20240101T000000
END:STANDARD
END:VTIMEZONE
BEGIN:VEVENT
DTSTART;TZID=UTC:20260306T000000
DTEND;TZID=UTC:20260306T000000
DTSTAMP:20260419T124616
CREATED:20260223T202603Z
LAST-MODIFIED:20260223T202603Z
UID:10002640-1772755200-1772755200@exploredowntownyyc.com
SUMMARY:NMC & WriteOn! Present: The Acoustic Guitar Project Showcase
DESCRIPTION:In celebration of Women’s History Month\, the National Music Centre\, in partnership with Write On!\, will present a special edition of The Acoustic Guitar Project\, spotlighting women and gender-diverse songwriters. Five Alberta-based artists were selected to participate in this unique collaborative songwriting initiative.
URL:https://exploredowntownyyc.com/event-calendar/nmc-writeon-present-the-acoustic-guitar-project-showcase/
LOCATION:King Eddy\, 438 Ninth Ave. S.E.\, Calgary\, Alberta\, T2G 1R1\, Canada
CATEGORIES:Music & Concerts
ATTACH;FMTTYPE=image/png:https://exploredowntownyyc.com/wp-content/uploads/2026/02/NMC_Event_2026_AcousticGuitarProject_Web-1900x800-1.png
END:VEVENT
BEGIN:VEVENT
DTSTART;TZID=UTC:20251214T150000
DTEND;TZID=UTC:20251214T150000
DTSTAMP:20260419T124616
CREATED:20251120T215901Z
LAST-MODIFIED:20251120T215901Z
UID:10002370-1765724400-1765724400@exploredowntownyyc.com
SUMMARY:Jam Club Gig Day
DESCRIPTION:Celebrate the creativity of young musicians as participants from the National Music Centre’s Jam Club showcase their hard work in a lively performance. This free event highlights community\, collaboration\, and the joy of music before the holiday break.
URL:https://exploredowntownyyc.com/event-calendar/jam-club-gig-day/
LOCATION:King Eddy\, 438 Ninth Ave. S.E.\, Calgary\, Alberta\, T2G 1R1\, Canada
CATEGORIES:Music & Concerts
ATTACH;FMTTYPE=image/png:https://exploredowntownyyc.com/wp-content/uploads/2025/11/NMC_2025-DEC-14_JamClubGigDay_web.png
END:VEVENT
BEGIN:VEVENT
DTSTART;TZID=UTC:20251203T080000
DTEND;TZID=UTC:20251203T080000
DTSTAMP:20260419T124616
CREATED:20251124T204204Z
LAST-MODIFIED:20251124T204204Z
UID:10002355-1764748800-1764748800@exploredowntownyyc.com
SUMMARY:AE West Artist Extravaganza Showcase
DESCRIPTION:Presented by Canada’s Music Incubator and the National Music Centre\, the AE West Artist Extravaganza Showcase will feature 10 emerging artists\, celebrating Western Canada’s rising talent and creative entrepreneurship in music.
URL:https://exploredowntownyyc.com/event-calendar/ae-west-artist-extravaganza-showcase/
LOCATION:King Eddy\, 438 Ninth Ave. S.E.\, Calgary\, Alberta\, T2G 1R1\, Canada
CATEGORIES:Music & Concerts
ATTACH;FMTTYPE=image/png:https://exploredowntownyyc.com/wp-content/uploads/2025/11/AE-West_2025-DEC-3_Showcase_web.png
END:VEVENT
END:VCALENDAR