BEGIN:VCALENDAR
VERSION:2.0
PRODID:-//Explore Downtown YYC - ECPv6.15.18//NONSGML v1.0//EN
CALSCALE:GREGORIAN
METHOD:PUBLISH
X-WR-CALNAME:Explore Downtown YYC
X-ORIGINAL-URL:https://exploredowntownyyc.com
X-WR-CALDESC:Events for Explore Downtown YYC
REFRESH-INTERVAL;VALUE=DURATION:PT1H
X-Robots-Tag:noindex
X-PUBLISHED-TTL:PT1H
BEGIN:VTIMEZONE
TZID:UTC
BEGIN:STANDARD
TZOFFSETFROM:+0000
TZOFFSETTO:+0000
TZNAME:UTC
DTSTART:20250101T000000
END:STANDARD
END:VTIMEZONE
BEGIN:VEVENT
DTSTART;TZID=UTC:20260502T170000
DTEND;TZID=UTC:20260502T170000
DTSTAMP:20260423T182531
CREATED:20260423T133103Z
LAST-MODIFIED:20260423T133103Z
UID:10002810-1777741200-1777741200@exploredowntownyyc.com
SUMMARY:LOOK26 Gala: Off The Path
DESCRIPTION:LOOK26 Gala: Off The Path invites guests to an unforgettable night at Contemporary Calgary\, where immersive installations\, live performances\, fine dining and art auctions transform the gallery into a fantastical\, otherworldly forest inspired by local artist duo DaveandJenn. This annual gala supports Contemporary Calgary while celebrating art\, community\, and creativity through an evening of revelry and imagination.
URL:https://exploredowntownyyc.com/event-calendar/look26-gala-off-the-path/
LOCATION:Contemporary Calgary\, 701 11 St. S.W.\, Calgary\, Alberta\, T2P 2C4\, Canada
CATEGORIES:Galleries & Exhibitions,Museums
ATTACH;FMTTYPE=image/jpeg:https://exploredowntownyyc.com/wp-content/uploads/2026/04/Contemporary-Calgary-Look26-Gala.jpg
END:VEVENT
END:VCALENDAR