BEGIN:VCALENDAR
VERSION:2.0
PRODID:-//Explore Downtown YYC - ECPv6.15.18//NONSGML v1.0//EN
CALSCALE:GREGORIAN
METHOD:PUBLISH
X-ORIGINAL-URL:https://exploredowntownyyc.com
X-WR-CALDESC:Events for Explore Downtown YYC
REFRESH-INTERVAL;VALUE=DURATION:PT1H
X-Robots-Tag:noindex
X-PUBLISHED-TTL:PT1H
BEGIN:VTIMEZONE
TZID:UTC
BEGIN:STANDARD
TZOFFSETFROM:+0000
TZOFFSETTO:+0000
TZNAME:UTC
DTSTART:20250101T000000
END:STANDARD
END:VTIMEZONE
BEGIN:VEVENT
DTSTART;TZID=UTC:20260424T100000
DTEND;TZID=UTC:20260424T120000
DTSTAMP:20260421T092911
CREATED:20260414T213823Z
LAST-MODIFIED:20260414T213823Z
UID:10002801-1777024800-1777032000@exploredowntownyyc.com
SUMMARY:Internet Safety
DESCRIPTION:Join The City of Calgary in partnership with Child Safe Canada for an engaging and interactive program from 10:00 a.m. – noon\, designed to help children ages 8 – 13 have fun while being safe online. Children will learn through scenarios\, roleplaying\, and discussion. Participants must live in Downtown or Beltline Neighbourhood. To register for your free spot\, contact Twyla Moon: twyla.moon@calgary.ca / (403) 703-5104 or Silvia Ross:silvia.ross@calgary.ca / (403) 540-0160.
URL:https://exploredowntownyyc.com/event-calendar/internet-safety/
LOCATION:Central Library\, 800 3 St S.E.\, Calgary\, Alberta
CATEGORIES:Festivals & Events
ATTACH;FMTTYPE=image/jpeg:https://exploredowntownyyc.com/wp-content/uploads/2026/04/internet-safety.jpg
END:VEVENT
END:VCALENDAR