BEGIN:VCALENDAR
VERSION:2.0
PRODID:-//Explore Downtown YYC - ECPv6.15.18//NONSGML v1.0//EN
CALSCALE:GREGORIAN
METHOD:PUBLISH
X-ORIGINAL-URL:https://exploredowntownyyc.com
X-WR-CALDESC:Events for Explore Downtown YYC
REFRESH-INTERVAL;VALUE=DURATION:PT1H
X-Robots-Tag:noindex
X-PUBLISHED-TTL:PT1H
BEGIN:VTIMEZONE
TZID:UTC
BEGIN:STANDARD
TZOFFSETFROM:+0000
TZOFFSETTO:+0000
TZNAME:UTC
DTSTART:20240101T000000
END:STANDARD
END:VTIMEZONE
BEGIN:VEVENT
DTSTART;TZID=UTC:20251204T190000
DTEND;TZID=UTC:20251204T220000
DTSTAMP:20260419T145738
CREATED:20251124T203821Z
LAST-MODIFIED:20251124T203837Z
UID:10002415-1764874800-1764885600@exploredowntownyyc.com
SUMMARY:Calgary Flames Home Game
DESCRIPTION:Experience the thrill of NHL action with Calgary Flames Home Games at the Scotiabank Saddledome as the Flames take on nine teams on home ice this month.
URL:https://exploredowntownyyc.com/event-calendar/calgary-flames-home-games/2025-12-04/
LOCATION:Scotiabank Saddledome\, 555 Saddledome Rise S.E.\, Calgary\, Alberta
CATEGORIES:Sports & Fitness
ATTACH;FMTTYPE=image/jpeg:https://exploredowntownyyc.com/wp-content/uploads/2025/11/Calgary-Flames_Brady-Plewright-scaled.jpg
END:VEVENT
BEGIN:VEVENT
DTSTART;TZID=UTC:20251205T190000
DTEND;TZID=UTC:20251205T220000
DTSTAMP:20260419T145738
CREATED:20251124T202844Z
LAST-MODIFIED:20251124T202924Z
UID:10002410-1764961200-1764972000@exploredowntownyyc.com
SUMMARY:Calgary Hitmen Home Game
DESCRIPTION:Get into the action of the WHL with Calgary Hitmen Home Games at the Scotiabank Saddledome as the Hitmen take on five rivals this December.
URL:https://exploredowntownyyc.com/event-calendar/calgary-hitmen-home-games/2025-12-05/
LOCATION:Scotiabank Saddledome\, 555 Saddledome Rise S.E.\, Calgary\, Alberta
CATEGORIES:Sports & Fitness
ATTACH;FMTTYPE=image/jpeg:https://exploredowntownyyc.com/wp-content/uploads/2025/11/Calgary-Hitmen.jpg
END:VEVENT
BEGIN:VEVENT
DTSTART;TZID=UTC:20251206T170000
DTEND;TZID=UTC:20251206T200000
DTSTAMP:20260419T145738
CREATED:20251124T203821Z
LAST-MODIFIED:20251124T203837Z
UID:10002416-1765040400-1765051200@exploredowntownyyc.com
SUMMARY:Calgary Flames Home Game
DESCRIPTION:Experience the thrill of NHL action with Calgary Flames Home Games at the Scotiabank Saddledome as the Flames take on nine teams on home ice this month.
URL:https://exploredowntownyyc.com/event-calendar/calgary-flames-home-games/2025-12-06/
LOCATION:Scotiabank Saddledome\, 555 Saddledome Rise S.E.\, Calgary\, Alberta
CATEGORIES:Sports & Fitness
ATTACH;FMTTYPE=image/jpeg:https://exploredowntownyyc.com/wp-content/uploads/2025/11/Calgary-Flames_Brady-Plewright-scaled.jpg
END:VEVENT
BEGIN:VEVENT
DTSTART;TZID=UTC:20251207T160000
DTEND;TZID=UTC:20251207T190000
DTSTAMP:20260419T145738
CREATED:20251124T202844Z
LAST-MODIFIED:20251124T202924Z
UID:10002411-1765123200-1765134000@exploredowntownyyc.com
SUMMARY:Calgary Hitmen Home Game
DESCRIPTION:Get into the action of the WHL with Calgary Hitmen Home Games at the Scotiabank Saddledome as the Hitmen take on five rivals this December.
URL:https://exploredowntownyyc.com/event-calendar/calgary-hitmen-home-games/2025-12-07/
LOCATION:Scotiabank Saddledome\, 555 Saddledome Rise S.E.\, Calgary\, Alberta
CATEGORIES:Sports & Fitness
ATTACH;FMTTYPE=image/jpeg:https://exploredowntownyyc.com/wp-content/uploads/2025/11/Calgary-Hitmen.jpg
END:VEVENT
BEGIN:VEVENT
DTSTART;TZID=UTC:20251208T190000
DTEND;TZID=UTC:20251208T220000
DTSTAMP:20260419T145738
CREATED:20251124T203821Z
LAST-MODIFIED:20251124T203837Z
UID:10002417-1765220400-1765231200@exploredowntownyyc.com
SUMMARY:Calgary Flames Home Game
DESCRIPTION:Experience the thrill of NHL action with Calgary Flames Home Games at the Scotiabank Saddledome as the Flames take on nine teams on home ice this month.
URL:https://exploredowntownyyc.com/event-calendar/calgary-flames-home-games/2025-12-08/
LOCATION:Scotiabank Saddledome\, 555 Saddledome Rise S.E.\, Calgary\, Alberta
CATEGORIES:Sports & Fitness
ATTACH;FMTTYPE=image/jpeg:https://exploredowntownyyc.com/wp-content/uploads/2025/11/Calgary-Flames_Brady-Plewright-scaled.jpg
END:VEVENT
BEGIN:VEVENT
DTSTART;TZID=UTC:20251209T190000
DTEND;TZID=UTC:20251209T220000
DTSTAMP:20260419T145738
CREATED:20251124T200635Z
LAST-MODIFIED:20251124T202942Z
UID:10002400-1765306800-1765317600@exploredowntownyyc.com
SUMMARY:Calgary Wranglers Home Game
DESCRIPTION:Check out the top prospects of the Calgary Flames at a Calgary Wranglers home game at the Scotiabank Saddledome as the Wranglers take on seven visitors this month.
URL:https://exploredowntownyyc.com/event-calendar/calgary-wranglers-home-games/2025-12-09/
LOCATION:Scotiabank Saddledome\, 555 Saddledome Rise S.E.\, Calgary\, Alberta
CATEGORIES:Sports & Fitness
ATTACH;FMTTYPE=image/jpeg:https://exploredowntownyyc.com/wp-content/uploads/2025/11/Calgary_Wranglers.jpg
END:VEVENT
BEGIN:VEVENT
DTSTART;TZID=UTC:20251210T183000
DTEND;TZID=UTC:20251210T213000
DTSTAMP:20260419T145738
CREATED:20251124T203821Z
LAST-MODIFIED:20251124T203837Z
UID:10002418-1765391400-1765402200@exploredowntownyyc.com
SUMMARY:Calgary Flames Home Game
DESCRIPTION:Experience the thrill of NHL action with Calgary Flames Home Games at the Scotiabank Saddledome as the Flames take on nine teams on home ice this month.
URL:https://exploredowntownyyc.com/event-calendar/calgary-flames-home-games/2025-12-10/
LOCATION:Scotiabank Saddledome\, 555 Saddledome Rise S.E.\, Calgary\, Alberta
CATEGORIES:Sports & Fitness
ATTACH;FMTTYPE=image/jpeg:https://exploredowntownyyc.com/wp-content/uploads/2025/11/Calgary-Flames_Brady-Plewright-scaled.jpg
END:VEVENT
BEGIN:VEVENT
DTSTART;TZID=UTC:20251211T190000
DTEND;TZID=UTC:20251211T220000
DTSTAMP:20260419T145738
CREATED:20251124T200635Z
LAST-MODIFIED:20251124T202942Z
UID:10002401-1765479600-1765490400@exploredowntownyyc.com
SUMMARY:Calgary Wranglers Home Game
DESCRIPTION:Check out the top prospects of the Calgary Flames at a Calgary Wranglers home game at the Scotiabank Saddledome as the Wranglers take on seven visitors this month.
URL:https://exploredowntownyyc.com/event-calendar/calgary-wranglers-home-games/2025-12-11/
LOCATION:Scotiabank Saddledome\, 555 Saddledome Rise S.E.\, Calgary\, Alberta
CATEGORIES:Sports & Fitness
ATTACH;FMTTYPE=image/jpeg:https://exploredowntownyyc.com/wp-content/uploads/2025/11/Calgary_Wranglers.jpg
END:VEVENT
BEGIN:VEVENT
DTSTART;TZID=UTC:20251212T190000
DTEND;TZID=UTC:20251212T220000
DTSTAMP:20260419T145738
CREATED:20251124T202844Z
LAST-MODIFIED:20251124T202924Z
UID:10002412-1765566000-1765576800@exploredowntownyyc.com
SUMMARY:Calgary Hitmen Home Game
DESCRIPTION:Get into the action of the WHL with Calgary Hitmen Home Games at the Scotiabank Saddledome as the Hitmen take on five rivals this December.
URL:https://exploredowntownyyc.com/event-calendar/calgary-hitmen-home-games/2025-12-12/
LOCATION:Scotiabank Saddledome\, 555 Saddledome Rise S.E.\, Calgary\, Alberta
CATEGORIES:Sports & Fitness
ATTACH;FMTTYPE=image/jpeg:https://exploredowntownyyc.com/wp-content/uploads/2025/11/Calgary-Hitmen.jpg
END:VEVENT
BEGIN:VEVENT
DTSTART;TZID=UTC:20251213T180000
DTEND;TZID=UTC:20251213T210000
DTSTAMP:20260419T145738
CREATED:20251124T200635Z
LAST-MODIFIED:20251124T202942Z
UID:10002402-1765648800-1765659600@exploredowntownyyc.com
SUMMARY:Calgary Wranglers Home Game
DESCRIPTION:Check out the top prospects of the Calgary Flames at a Calgary Wranglers home game at the Scotiabank Saddledome as the Wranglers take on seven visitors this month.
URL:https://exploredowntownyyc.com/event-calendar/calgary-wranglers-home-games/2025-12-13/
LOCATION:Scotiabank Saddledome\, 555 Saddledome Rise S.E.\, Calgary\, Alberta
CATEGORIES:Sports & Fitness
ATTACH;FMTTYPE=image/jpeg:https://exploredowntownyyc.com/wp-content/uploads/2025/11/Calgary_Wranglers.jpg
END:VEVENT
BEGIN:VEVENT
DTSTART;TZID=UTC:20251214T160000
DTEND;TZID=UTC:20251214T190000
DTSTAMP:20260419T145738
CREATED:20251124T200635Z
LAST-MODIFIED:20251124T202942Z
UID:10002403-1765728000-1765738800@exploredowntownyyc.com
SUMMARY:Calgary Wranglers Home Game
DESCRIPTION:Check out the top prospects of the Calgary Flames at a Calgary Wranglers home game at the Scotiabank Saddledome as the Wranglers take on seven visitors this month.
URL:https://exploredowntownyyc.com/event-calendar/calgary-wranglers-home-games/2025-12-14/
LOCATION:Scotiabank Saddledome\, 555 Saddledome Rise S.E.\, Calgary\, Alberta
CATEGORIES:Sports & Fitness
ATTACH;FMTTYPE=image/jpeg:https://exploredowntownyyc.com/wp-content/uploads/2025/11/Calgary_Wranglers.jpg
END:VEVENT
BEGIN:VEVENT
DTSTART;TZID=UTC:20251217T190000
DTEND;TZID=UTC:20251217T220000
DTSTAMP:20260419T145738
CREATED:20251124T202844Z
LAST-MODIFIED:20251124T202924Z
UID:10002413-1765998000-1766008800@exploredowntownyyc.com
SUMMARY:Calgary Hitmen Home Game
DESCRIPTION:Get into the action of the WHL with Calgary Hitmen Home Games at the Scotiabank Saddledome as the Hitmen take on five rivals this December.
URL:https://exploredowntownyyc.com/event-calendar/calgary-hitmen-home-games/2025-12-17/
LOCATION:Scotiabank Saddledome\, 555 Saddledome Rise S.E.\, Calgary\, Alberta
CATEGORIES:Sports & Fitness
ATTACH;FMTTYPE=image/jpeg:https://exploredowntownyyc.com/wp-content/uploads/2025/11/Calgary-Hitmen.jpg
END:VEVENT
BEGIN:VEVENT
DTSTART;TZID=UTC:20251218T190000
DTEND;TZID=UTC:20251218T220000
DTSTAMP:20260419T145738
CREATED:20251124T203821Z
LAST-MODIFIED:20251124T203837Z
UID:10002419-1766084400-1766095200@exploredowntownyyc.com
SUMMARY:Calgary Flames Home Game
DESCRIPTION:Experience the thrill of NHL action with Calgary Flames Home Games at the Scotiabank Saddledome as the Flames take on nine teams on home ice this month.
URL:https://exploredowntownyyc.com/event-calendar/calgary-flames-home-games/2025-12-18/
LOCATION:Scotiabank Saddledome\, 555 Saddledome Rise S.E.\, Calgary\, Alberta
CATEGORIES:Sports & Fitness
ATTACH;FMTTYPE=image/jpeg:https://exploredowntownyyc.com/wp-content/uploads/2025/11/Calgary-Flames_Brady-Plewright-scaled.jpg
END:VEVENT
BEGIN:VEVENT
DTSTART;TZID=UTC:20251219T130000
DTEND;TZID=UTC:20251219T160000
DTSTAMP:20260419T145738
CREATED:20251124T202844Z
LAST-MODIFIED:20251124T202924Z
UID:10002414-1766149200-1766160000@exploredowntownyyc.com
SUMMARY:Calgary Hitmen Home Game
DESCRIPTION:Get into the action of the WHL with Calgary Hitmen Home Games at the Scotiabank Saddledome as the Hitmen take on five rivals this December.
URL:https://exploredowntownyyc.com/event-calendar/calgary-hitmen-home-games/2025-12-19/
LOCATION:Scotiabank Saddledome\, 555 Saddledome Rise S.E.\, Calgary\, Alberta
CATEGORIES:Sports & Fitness
ATTACH;FMTTYPE=image/jpeg:https://exploredowntownyyc.com/wp-content/uploads/2025/11/Calgary-Hitmen.jpg
END:VEVENT
BEGIN:VEVENT
DTSTART;TZID=UTC:20251219T190000
DTEND;TZID=UTC:20251219T220000
DTSTAMP:20260419T145738
CREATED:20251124T200635Z
LAST-MODIFIED:20251124T202942Z
UID:10002404-1766170800-1766181600@exploredowntownyyc.com
SUMMARY:Calgary Wranglers Home Game
DESCRIPTION:Check out the top prospects of the Calgary Flames at a Calgary Wranglers home game at the Scotiabank Saddledome as the Wranglers take on seven visitors this month.
URL:https://exploredowntownyyc.com/event-calendar/calgary-wranglers-home-games/2025-12-19/
LOCATION:Scotiabank Saddledome\, 555 Saddledome Rise S.E.\, Calgary\, Alberta
CATEGORIES:Sports & Fitness
ATTACH;FMTTYPE=image/jpeg:https://exploredowntownyyc.com/wp-content/uploads/2025/11/Calgary_Wranglers.jpg
END:VEVENT
BEGIN:VEVENT
DTSTART;TZID=UTC:20251220T200000
DTEND;TZID=UTC:20251220T230000
DTSTAMP:20260419T145738
CREATED:20251124T203821Z
LAST-MODIFIED:20251124T203837Z
UID:10002420-1766260800-1766271600@exploredowntownyyc.com
SUMMARY:Calgary Flames Home Game
DESCRIPTION:Experience the thrill of NHL action with Calgary Flames Home Games at the Scotiabank Saddledome as the Flames take on nine teams on home ice this month.
URL:https://exploredowntownyyc.com/event-calendar/calgary-flames-home-games/2025-12-20/
LOCATION:Scotiabank Saddledome\, 555 Saddledome Rise S.E.\, Calgary\, Alberta
CATEGORIES:Sports & Fitness
ATTACH;FMTTYPE=image/jpeg:https://exploredowntownyyc.com/wp-content/uploads/2025/11/Calgary-Flames_Brady-Plewright-scaled.jpg
END:VEVENT
BEGIN:VEVENT
DTSTART;TZID=UTC:20251221T140000
DTEND;TZID=UTC:20251221T170000
DTSTAMP:20260419T145738
CREATED:20251124T200635Z
LAST-MODIFIED:20251124T202942Z
UID:10002405-1766325600-1766336400@exploredowntownyyc.com
SUMMARY:Calgary Wranglers Home Game
DESCRIPTION:Check out the top prospects of the Calgary Flames at a Calgary Wranglers home game at the Scotiabank Saddledome as the Wranglers take on seven visitors this month.
URL:https://exploredowntownyyc.com/event-calendar/calgary-wranglers-home-games/2025-12-21/
LOCATION:Scotiabank Saddledome\, 555 Saddledome Rise S.E.\, Calgary\, Alberta
CATEGORIES:Sports & Fitness
ATTACH;FMTTYPE=image/jpeg:https://exploredowntownyyc.com/wp-content/uploads/2025/11/Calgary_Wranglers.jpg
END:VEVENT
BEGIN:VEVENT
DTSTART;TZID=UTC:20251227T200000
DTEND;TZID=UTC:20251227T230000
DTSTAMP:20260419T145738
CREATED:20251124T203821Z
LAST-MODIFIED:20251124T203837Z
UID:10002421-1766865600-1766876400@exploredowntownyyc.com
SUMMARY:Calgary Flames Home Game
DESCRIPTION:Experience the thrill of NHL action with Calgary Flames Home Games at the Scotiabank Saddledome as the Flames take on nine teams on home ice this month.
URL:https://exploredowntownyyc.com/event-calendar/calgary-flames-home-games/2025-12-27/
LOCATION:Scotiabank Saddledome\, 555 Saddledome Rise S.E.\, Calgary\, Alberta
CATEGORIES:Sports & Fitness
ATTACH;FMTTYPE=image/jpeg:https://exploredowntownyyc.com/wp-content/uploads/2025/11/Calgary-Flames_Brady-Plewright-scaled.jpg
END:VEVENT
BEGIN:VEVENT
DTSTART;TZID=UTC:20251229T190000
DTEND;TZID=UTC:20251229T220000
DTSTAMP:20260419T145738
CREATED:20251124T203821Z
LAST-MODIFIED:20251124T203837Z
UID:10002422-1767034800-1767045600@exploredowntownyyc.com
SUMMARY:Calgary Flames Home Game
DESCRIPTION:Experience the thrill of NHL action with Calgary Flames Home Games at the Scotiabank Saddledome as the Flames take on nine teams on home ice this month.
URL:https://exploredowntownyyc.com/event-calendar/calgary-flames-home-games/2025-12-29/
LOCATION:Scotiabank Saddledome\, 555 Saddledome Rise S.E.\, Calgary\, Alberta
CATEGORIES:Sports & Fitness
ATTACH;FMTTYPE=image/jpeg:https://exploredowntownyyc.com/wp-content/uploads/2025/11/Calgary-Flames_Brady-Plewright-scaled.jpg
END:VEVENT
BEGIN:VEVENT
DTSTART;TZID=UTC:20251230T180000
DTEND;TZID=UTC:20251230T210000
DTSTAMP:20260419T145738
CREATED:20251124T200635Z
LAST-MODIFIED:20251124T202942Z
UID:10002406-1767117600-1767128400@exploredowntownyyc.com
SUMMARY:Calgary Wranglers Home Game
DESCRIPTION:Check out the top prospects of the Calgary Flames at a Calgary Wranglers home game at the Scotiabank Saddledome as the Wranglers take on seven visitors this month.
URL:https://exploredowntownyyc.com/event-calendar/calgary-wranglers-home-games/2025-12-30/
LOCATION:Scotiabank Saddledome\, 555 Saddledome Rise S.E.\, Calgary\, Alberta
CATEGORIES:Sports & Fitness
ATTACH;FMTTYPE=image/jpeg:https://exploredowntownyyc.com/wp-content/uploads/2025/11/Calgary_Wranglers.jpg
END:VEVENT
BEGIN:VEVENT
DTSTART;TZID=UTC:20251231T193000
DTEND;TZID=UTC:20251231T223000
DTSTAMP:20260419T145738
CREATED:20251124T203821Z
LAST-MODIFIED:20251124T203837Z
UID:10002423-1767209400-1767220200@exploredowntownyyc.com
SUMMARY:Calgary Flames Home Game
DESCRIPTION:Experience the thrill of NHL action with Calgary Flames Home Games at the Scotiabank Saddledome as the Flames take on nine teams on home ice this month.
URL:https://exploredowntownyyc.com/event-calendar/calgary-flames-home-games/2025-12-31/
LOCATION:Scotiabank Saddledome\, 555 Saddledome Rise S.E.\, Calgary\, Alberta
CATEGORIES:Sports & Fitness
ATTACH;FMTTYPE=image/jpeg:https://exploredowntownyyc.com/wp-content/uploads/2025/11/Calgary-Flames_Brady-Plewright-scaled.jpg
END:VEVENT
END:VCALENDAR