BEGIN:VCALENDAR
VERSION:2.0
PRODID:-//Explore Downtown YYC - ECPv6.15.18//NONSGML v1.0//EN
CALSCALE:GREGORIAN
METHOD:PUBLISH
X-WR-CALNAME:Explore Downtown YYC
X-ORIGINAL-URL:https://exploredowntownyyc.com
X-WR-CALDESC:Events for Explore Downtown YYC
REFRESH-INTERVAL;VALUE=DURATION:PT1H
X-Robots-Tag:noindex
X-PUBLISHED-TTL:PT1H
BEGIN:VTIMEZONE
TZID:UTC
BEGIN:STANDARD
TZOFFSETFROM:+0000
TZOFFSETTO:+0000
TZNAME:UTC
DTSTART:20250101T000000
END:STANDARD
END:VTIMEZONE
BEGIN:VEVENT
DTSTART;TZID=UTC:20260314T110000
DTEND;TZID=UTC:20260314T120000
DTSTAMP:20260425T155913
CREATED:20260223T202029Z
LAST-MODIFIED:20260223T202029Z
UID:10002639-1773486000-1773489600@exploredowntownyyc.com
SUMMARY:Inuit Fireside Stories
DESCRIPTION:The confluence of the Bow and Elbow rivers has been a place of gathering since time immemorial. Join artist Denise Klengenberg-Bryan (Inuinaqtun name: Angasina) of the Copper-Inuit around the fire where the rivers meet for a morning of captivating and educational tales.
URL:https://exploredowntownyyc.com/event-calendar/inuit-fireside-stories/
LOCATION:The Confluence Historic Site & Parkland\, 750 Ninth Ave. S.E.\, Calgary\, Alberta\, T2G 5E1\, Canada
CATEGORIES:Galleries & Exhibitions
ATTACH;FMTTYPE=image/jpeg:https://exploredowntownyyc.com/wp-content/uploads/2026/02/Inuit-Fireside-Stories.jpg
END:VEVENT
END:VCALENDAR