BEGIN:VCALENDAR
VERSION:2.0
PRODID:-//Explore Downtown YYC - ECPv6.15.18//NONSGML v1.0//EN
CALSCALE:GREGORIAN
METHOD:PUBLISH
X-WR-CALNAME:Explore Downtown YYC
X-ORIGINAL-URL:https://exploredowntownyyc.com
X-WR-CALDESC:Events for Explore Downtown YYC
REFRESH-INTERVAL;VALUE=DURATION:PT1H
X-Robots-Tag:noindex
X-PUBLISHED-TTL:PT1H
BEGIN:VTIMEZONE
TZID:UTC
BEGIN:STANDARD
TZOFFSETFROM:+0000
TZOFFSETTO:+0000
TZNAME:UTC
DTSTART:20250101T000000
END:STANDARD
END:VTIMEZONE
BEGIN:VEVENT
DTSTART;VALUE=DATE:20260402
DTEND;VALUE=DATE:20260518
DTSTAMP:20260425T142013
CREATED:20260324T194134Z
LAST-MODIFIED:20260324T195812Z
UID:10002702-1775088000-1779062399@exploredowntownyyc.com
SUMMARY:Mapping History: The Calgary Atlas Project
DESCRIPTION:Navigate the past and present of Calgary this spring with Mapping History: The Calgary Atlas Project! This new exhibit brings maps from the local historians\, authors\, and artists behind the Calgary Institute for the Humanities’ Atlas Project to life at Lougheed House. Accompanied by original art pieces\, artifacts\, tours\, workshops\, and more\, Mapping History: The Calgary Atlas Project is on display from April 2nd until May 17th.
URL:https://exploredowntownyyc.com/event-calendar/the-calgary-atlas-project/
LOCATION:Lougheed House\, 707 13th Ave. S.W.\, Calgary\, Alberta
ATTACH;FMTTYPE=image/jpeg:https://exploredowntownyyc.com/wp-content/uploads/2026/03/Lougheed-House-Mapping-History.jpg
END:VEVENT
BEGIN:VEVENT
DTSTART;TZID=UTC:20260502T110000
DTEND;TZID=UTC:20260502T130000
DTSTAMP:20260425T142013
CREATED:20260422T214434Z
LAST-MODIFIED:20260422T214434Z
UID:10002858-1777719600-1777726800@exploredowntownyyc.com
SUMMARY:East Village Public Art Experience
DESCRIPTION:Discover the artistic gems of Calgary’s East Village through a guided experience that brings public art to life. Learn the history behind iconic public installations and contribute to public art at The Confluence’s free graffiti wall. May 2\, June 6\, July 18\, Aug. 1\, Sept. 5
URL:https://exploredowntownyyc.com/event-calendar/east-village-public-art-experience/2026-05-02/
LOCATION:The Confluence Historic Site & Parkland\, 750 Ninth Ave. S.E.\, Calgary\, Alberta\, T2G 5E1\, Canada
CATEGORIES:Galleries & Exhibitions,Museums
ATTACH;FMTTYPE=image/jpeg:https://exploredowntownyyc.com/wp-content/uploads/2026/04/East-Village-Public-Art-Experience.jpg
END:VEVENT
BEGIN:VEVENT
DTSTART;TZID=UTC:20260502T170000
DTEND;TZID=UTC:20260502T170000
DTSTAMP:20260425T142013
CREATED:20260423T133103Z
LAST-MODIFIED:20260423T133103Z
UID:10002810-1777741200-1777741200@exploredowntownyyc.com
SUMMARY:LOOK26 Gala: Off The Path
DESCRIPTION:LOOK26 Gala: Off The Path invites guests to an unforgettable night at Contemporary Calgary\, where immersive installations\, live performances\, fine dining and art auctions transform the gallery into a fantastical\, otherworldly forest inspired by local artist duo DaveandJenn. This annual gala supports Contemporary Calgary while celebrating art\, community\, and creativity through an evening of revelry and imagination.
URL:https://exploredowntownyyc.com/event-calendar/look26-gala-off-the-path/
LOCATION:Contemporary Calgary\, 701 11 St. S.W.\, Calgary\, Alberta\, T2P 2C4\, Canada
CATEGORIES:Galleries & Exhibitions,Museums
ATTACH;FMTTYPE=image/jpeg:https://exploredowntownyyc.com/wp-content/uploads/2026/04/Contemporary-Calgary-Look26-Gala.jpg
END:VEVENT
BEGIN:VEVENT
DTSTART;TZID=UTC:20260503T123000
DTEND;TZID=UTC:20260503T140000
DTSTAMP:20260425T142013
CREATED:20260422T213557Z
LAST-MODIFIED:20260422T213557Z
UID:10002856-1777811400-1777816800@exploredowntownyyc.com
SUMMARY:Understanding History Through Art
DESCRIPTION:Experience The Confluence’s temporary exhibits while you can in this unique guided tour and art program in our White Box space. Learn about the three art exhibitions currently on exhibit and a short history on artist responses throughout and in response to Canadian history. Following the tour\, create your own artist response with a provided canvas\, paint\, stencils and other materials. May 3 & 16
URL:https://exploredowntownyyc.com/event-calendar/understanding-history-through-art/2026-05-03/
LOCATION:The Confluence Historic Site & Parkland\, 750 Ninth Ave. S.E.\, Calgary\, Alberta\, T2G 5E1\, Canada
CATEGORIES:Galleries & Exhibitions,Museums
ATTACH;FMTTYPE=image/jpeg:https://exploredowntownyyc.com/wp-content/uploads/2026/04/Understanding-History-Through-Art.jpg
END:VEVENT
BEGIN:VEVENT
DTSTART;TZID=UTC:20260516T123000
DTEND;TZID=UTC:20260516T140000
DTSTAMP:20260425T142013
CREATED:20260422T213557Z
LAST-MODIFIED:20260422T213557Z
UID:10002857-1778934600-1778940000@exploredowntownyyc.com
SUMMARY:Understanding History Through Art
DESCRIPTION:Experience The Confluence’s temporary exhibits while you can in this unique guided tour and art program in our White Box space. Learn about the three art exhibitions currently on exhibit and a short history on artist responses throughout and in response to Canadian history. Following the tour\, create your own artist response with a provided canvas\, paint\, stencils and other materials. May 3 & 16
URL:https://exploredowntownyyc.com/event-calendar/understanding-history-through-art/2026-05-16/
LOCATION:The Confluence Historic Site & Parkland\, 750 Ninth Ave. S.E.\, Calgary\, Alberta\, T2G 5E1\, Canada
CATEGORIES:Galleries & Exhibitions,Museums
ATTACH;FMTTYPE=image/jpeg:https://exploredowntownyyc.com/wp-content/uploads/2026/04/Understanding-History-Through-Art.jpg
END:VEVENT
BEGIN:VEVENT
DTSTART;TZID=UTC:20260523T170000
DTEND;TZID=UTC:20260523T210000
DTSTAMP:20260425T142013
CREATED:20260422T215052Z
LAST-MODIFIED:20260422T215220Z
UID:10002817-1779555600-1779570000@exploredowntownyyc.com
SUMMARY:Locked Zoo: Puzzling Prairies (18+)
DESCRIPTION:Solve puzzles\, crack codes\, and unlock the secrets of the prairies before time runs out. You’ll be challenged to use your wits\, think creatively\, and work with your team to solve an intricate series of puzzles that bring animal conservation to life.
URL:https://exploredowntownyyc.com/event-calendar/locked-zoo-puzzling-prairies-18/
LOCATION:Wilder Institute/Calgary Zoo\, 1300 Zoo Rd N.E.\, Calgary\, Alberta
CATEGORIES:Galleries & Exhibitions,Museums
ATTACH;FMTTYPE=image/jpeg:https://exploredowntownyyc.com/wp-content/uploads/2026/04/Calgary-Zoo-Locked-Zoo.jpg
END:VEVENT
END:VCALENDAR