BEGIN:VCALENDAR
VERSION:2.0
PRODID:-//Explore Downtown YYC - ECPv6.15.18//NONSGML v1.0//EN
CALSCALE:GREGORIAN
METHOD:PUBLISH
X-ORIGINAL-URL:https://exploredowntownyyc.com
X-WR-CALDESC:Events for Explore Downtown YYC
REFRESH-INTERVAL;VALUE=DURATION:PT1H
X-Robots-Tag:noindex
X-PUBLISHED-TTL:PT1H
BEGIN:VTIMEZONE
TZID:UTC
BEGIN:STANDARD
TZOFFSETFROM:+0000
TZOFFSETTO:+0000
TZNAME:UTC
DTSTART:20250101T000000
END:STANDARD
END:VTIMEZONE
BEGIN:VEVENT
DTSTART;TZID=UTC:20260307T080000
DTEND;TZID=UTC:20260307T100000
DTSTAMP:20260425T205713
CREATED:20260223T213314Z
LAST-MODIFIED:20260223T213314Z
UID:10002632-1772870400-1772877600@exploredowntownyyc.com
SUMMARY:FOCUSED: Destination Africa
DESCRIPTION:FOCUSED gives lens lovers (ages 16+) exclusive access to the zoo to capture breathtaking photos of iconic wildlife\, from giraffes and lions to gorillas and everything in between\, with before-hours access to the indoor and outdoor habitats of Destination Africa. Photographers of all skill levels are welcome.
URL:https://exploredowntownyyc.com/event-calendar/focused-destination-africa/
LOCATION:Wilder Institute/Calgary Zoo\, 1300 Zoo Rd N.E.\, Calgary\, Alberta
CATEGORIES:Festivals & Events
ATTACH;FMTTYPE=image/jpeg:https://exploredowntownyyc.com/wp-content/uploads/2026/02/FOCUSED-Destination-Africa-e1771882357724.jpg
END:VEVENT
END:VCALENDAR