BEGIN:VCALENDAR
VERSION:2.0
PRODID:-//Explore Downtown YYC - ECPv6.15.18//NONSGML v1.0//EN
CALSCALE:GREGORIAN
METHOD:PUBLISH
X-WR-CALNAME:Explore Downtown YYC
X-ORIGINAL-URL:https://exploredowntownyyc.com
X-WR-CALDESC:Events for Explore Downtown YYC
REFRESH-INTERVAL;VALUE=DURATION:PT1H
X-Robots-Tag:noindex
X-PUBLISHED-TTL:PT1H
BEGIN:VTIMEZONE
TZID:UTC
BEGIN:STANDARD
TZOFFSETFROM:+0000
TZOFFSETTO:+0000
TZNAME:UTC
DTSTART:20250101T000000
END:STANDARD
END:VTIMEZONE
BEGIN:VEVENT
DTSTART;TZID=UTC:20260220T223000
DTEND;TZID=UTC:20260220T223000
DTSTAMP:20260426T002701
CREATED:20260122T151102Z
LAST-MODIFIED:20260122T151112Z
UID:10002570-1771626600-1771626600@exploredowntownyyc.com
SUMMARY:Locked Library: Full Steam
DESCRIPTION:Start your train-ing and get ready to climb aboard! The next instalment in everybody’s favourite Library puzzle obsession is scheduled to arrive! Don’t miss a brand-new escape room-style game taking over all four levels of Central Library.
URL:https://exploredowntownyyc.com/event-calendar/locked-library-full-steam/
LOCATION:Central Library\, 800 3 St S.E.\, Calgary\, Alberta
CATEGORIES:Festivals & Events
ATTACH;FMTTYPE=image/jpeg:https://exploredowntownyyc.com/wp-content/uploads/2026/01/Locked-Library-Full-Steam-e1769030393105.jpg
END:VEVENT
END:VCALENDAR