BEGIN:VCALENDAR
VERSION:2.0
PRODID:-//Explore Downtown YYC - ECPv6.15.18//NONSGML v1.0//EN
CALSCALE:GREGORIAN
METHOD:PUBLISH
X-ORIGINAL-URL:https://exploredowntownyyc.com
X-WR-CALDESC:Events for Explore Downtown YYC
REFRESH-INTERVAL;VALUE=DURATION:PT1H
X-Robots-Tag:noindex
X-PUBLISHED-TTL:PT1H
BEGIN:VTIMEZONE
TZID:UTC
BEGIN:STANDARD
TZOFFSETFROM:+0000
TZOFFSETTO:+0000
TZNAME:UTC
DTSTART:20250101T000000
END:STANDARD
END:VTIMEZONE
BEGIN:VEVENT
DTSTART;TZID=UTC:20260611T123000
DTEND;TZID=UTC:20260611T150000
DTSTAMP:20260423T185404
CREATED:20260423T150311Z
LAST-MODIFIED:20260423T150448Z
UID:10002885-1781181000-1781190000@exploredowntownyyc.com
SUMMARY:Sew Social
DESCRIPTION:Beltline and Downtown residents can gain knowledge\, experience and skills in both hand and machine sewing. Meet others in the neighbourhood while creating various projects and having fun learning. No cost\, supplies and snacks provided. Registration is required\, please contact Community Social Worker Silvia Ross at silvia.ross@calgary.ca / (403) 540-0160. \nMay 7\, 14\, 21 & 28 / June 4\, 11 & 18
URL:https://exploredowntownyyc.com/event-calendar/sew-social/2026-06-11/
LOCATION:St. Stephen’s Anglican Church\, 1121–14th Ave. S.W.\, Calgary\, Alberta\, Canada
CATEGORIES:Education
ATTACH;FMTTYPE=image/png:https://exploredowntownyyc.com/wp-content/uploads/2026/04/Sew_Social.png
END:VEVENT
END:VCALENDAR