BEGIN:VCALENDAR
VERSION:2.0
PRODID:-//Explore Downtown YYC - ECPv6.15.18//NONSGML v1.0//EN
CALSCALE:GREGORIAN
METHOD:PUBLISH
X-WR-CALNAME:Explore Downtown YYC
X-ORIGINAL-URL:https://exploredowntownyyc.com
X-WR-CALDESC:Events for Explore Downtown YYC
REFRESH-INTERVAL;VALUE=DURATION:PT1H
X-Robots-Tag:noindex
X-PUBLISHED-TTL:PT1H
BEGIN:VTIMEZONE
TZID:UTC
BEGIN:STANDARD
TZOFFSETFROM:+0000
TZOFFSETTO:+0000
TZNAME:UTC
DTSTART:20250101T000000
END:STANDARD
END:VTIMEZONE
BEGIN:VEVENT
DTSTART;TZID=UTC:20260919T170000
DTEND;TZID=UTC:20260919T220000
DTSTAMP:20260426T035917
CREATED:20260422T175916Z
LAST-MODIFIED:20260422T183737Z
UID:10002836-1789837200-1789855200@exploredowntownyyc.com
SUMMARY:4th Street Night Market
DESCRIPTION:The 4th Street Night Market is located in the heart of The Beltline for 2026. Visit the lively main street neighborhood of 4th Street for food\, fun\, local finds\, & friends at this family-friendly\, free\, pet-friendly night market all summer long! (May 16\, June 20\, July 18\, August 22\, September 19)
URL:https://exploredowntownyyc.com/event-calendar/4th-street-night-market/2026-09-19/
LOCATION:Central Memorial Park\, 1221 Second St. S.W.\, Calgary\, Canada
CATEGORIES:Shopping & Markets
ATTACH;FMTTYPE=image/png:https://exploredowntownyyc.com/wp-content/uploads/2026/04/4th-Street-Night-Market-e1776883048196.png
END:VEVENT
END:VCALENDAR