BEGIN:VCALENDAR
VERSION:2.0
PRODID:-//Explore Downtown YYC - ECPv6.15.18//NONSGML v1.0//EN
CALSCALE:GREGORIAN
METHOD:PUBLISH
X-ORIGINAL-URL:https://exploredowntownyyc.com
X-WR-CALDESC:Events for Explore Downtown YYC
REFRESH-INTERVAL;VALUE=DURATION:PT1H
X-Robots-Tag:noindex
X-PUBLISHED-TTL:PT1H
BEGIN:VTIMEZONE
TZID:UTC
BEGIN:STANDARD
TZOFFSETFROM:+0000
TZOFFSETTO:+0000
TZNAME:UTC
DTSTART:20250101T000000
END:STANDARD
END:VTIMEZONE
BEGIN:VEVENT
DTSTART;TZID=UTC:20260625T153000
DTEND;TZID=UTC:20260625T180000
DTSTAMP:20260423T182504
CREATED:20260324T174827Z
LAST-MODIFIED:20260324T220154Z
UID:10002786-1782401400-1782410400@exploredowntownyyc.com
SUMMARY:Downtown Tutoring Club
DESCRIPTION:Need help with homework? Our free drop-in tutoring program downtown is for junior high and high school students. RSVP your spot or come in when you can. Our tutors walk around and help with English\, math\, and science\, whether you have one small question or a lot to work on. It’s a relaxed\, friendly place to get help\, learn more\, and feel better about school. Walk-ins welcome. Email goodneighbouryyc@gmail.com for more information.
URL:https://exploredowntownyyc.com/event-calendar/downtown-tutoring-club/2026-06-25/
LOCATION:Various Locations
ATTACH;FMTTYPE=image/png:https://exploredowntownyyc.com/wp-content/uploads/2026/03/DT_Tutor.png
END:VEVENT
BEGIN:VEVENT
DTSTART;TZID=UTC:20260629T153000
DTEND;TZID=UTC:20260629T180000
DTSTAMP:20260423T182504
CREATED:20260324T174827Z
LAST-MODIFIED:20260324T220154Z
UID:10002787-1782747000-1782756000@exploredowntownyyc.com
SUMMARY:Downtown Tutoring Club
DESCRIPTION:Need help with homework? Our free drop-in tutoring program downtown is for junior high and high school students. RSVP your spot or come in when you can. Our tutors walk around and help with English\, math\, and science\, whether you have one small question or a lot to work on. It’s a relaxed\, friendly place to get help\, learn more\, and feel better about school. Walk-ins welcome. Email goodneighbouryyc@gmail.com for more information.
URL:https://exploredowntownyyc.com/event-calendar/downtown-tutoring-club/2026-06-29/
LOCATION:Various Locations
ATTACH;FMTTYPE=image/png:https://exploredowntownyyc.com/wp-content/uploads/2026/03/DT_Tutor.png
END:VEVENT
BEGIN:VEVENT
DTSTART;TZID=UTC:20260710T170000
DTEND;TZID=UTC:20260710T220000
DTSTAMP:20260423T182504
CREATED:20260422T181607Z
LAST-MODIFIED:20260422T184331Z
UID:10002839-1783702800-1783720800@exploredowntownyyc.com
SUMMARY:Inglewood Night Market
DESCRIPTION:The Inglewood Night Market is back to take over 10th Avenue SE\, turning the street into a full market with over 60 local artists and food vendors. It’s not something you walk through quickly; there is something happening at every corner. You can expect food trucks\, live music\, and pop-up stalls lining the sidewalks with everything from small-batch treats to handmade goods! (May 8\, June 12\, July 10\, August 14\, September 4 and 11)
URL:https://exploredowntownyyc.com/event-calendar/inglewood-night-market/2026-07-10/
LOCATION:10th avenue and 10th Street SE.\, 10th Ave. and 10th St. S.E.\, Calgary\, Alberta\, Canada
CATEGORIES:Shopping & Markets
ATTACH;FMTTYPE=image/jpeg:https://exploredowntownyyc.com/wp-content/uploads/2026/04/Inglewood-Night-Market.jpg
END:VEVENT
BEGIN:VEVENT
DTSTART;TZID=UTC:20260718T110000
DTEND;TZID=UTC:20260718T130000
DTSTAMP:20260423T182504
CREATED:20260422T214434Z
LAST-MODIFIED:20260422T214434Z
UID:10002860-1784372400-1784379600@exploredowntownyyc.com
SUMMARY:East Village Public Art Experience
DESCRIPTION:Discover the artistic gems of Calgary’s East Village through a guided experience that brings public art to life. Learn the history behind iconic public installations and contribute to public art at The Confluence’s free graffiti wall. May 2\, June 6\, July 18\, Aug. 1\, Sept. 5
URL:https://exploredowntownyyc.com/event-calendar/east-village-public-art-experience/2026-07-18/
LOCATION:The Confluence Historic Site & Parkland\, 750 Ninth Ave. S.E.\, Calgary\, Alberta\, T2G 5E1\, Canada
CATEGORIES:Galleries & Exhibitions,Museums
ATTACH;FMTTYPE=image/jpeg:https://exploredowntownyyc.com/wp-content/uploads/2026/04/East-Village-Public-Art-Experience.jpg
END:VEVENT
BEGIN:VEVENT
DTSTART;TZID=UTC:20260718T170000
DTEND;TZID=UTC:20260718T220000
DTSTAMP:20260423T182504
CREATED:20260422T175916Z
LAST-MODIFIED:20260422T183737Z
UID:10002834-1784394000-1784412000@exploredowntownyyc.com
SUMMARY:4th Street Night Market
DESCRIPTION:The 4th Street Night Market is located in the heart of The Beltline for 2026. Visit the lively main street neighborhood of 4th Street for food\, fun\, local finds\, & friends at this family-friendly\, free\, pet-friendly night market all summer long! (May 16\, June 20\, July 18\, August 22\, September 19)
URL:https://exploredowntownyyc.com/event-calendar/4th-street-night-market/2026-07-18/
LOCATION:Central Memorial Park\, 1221 Second St. S.W.\, Calgary\, Canada
CATEGORIES:Shopping & Markets
ATTACH;FMTTYPE=image/png:https://exploredowntownyyc.com/wp-content/uploads/2026/04/4th-Street-Night-Market-e1776883048196.png
END:VEVENT
BEGIN:VEVENT
DTSTART;TZID=UTC:20260718T203000
DTEND;TZID=UTC:20260718T203000
DTSTAMP:20260423T182504
CREATED:20260323T215255Z
LAST-MODIFIED:20260423T141358Z
UID:10002879-1784406600-1784406600@exploredowntownyyc.com
SUMMARY:Candlelight: Tribute to Queen
DESCRIPTION:Candlelight concerts bring the magic of a live\, multi-sensory musical experience to awe-inspiring locations like never seen before in Calgary. Discover the music of Queen under the gentle glow of candlelight. (May 16 & July 18)
URL:https://exploredowntownyyc.com/event-calendar/candlelight-tribute-to-queen/2026-07-18/
LOCATION:Studio Bell – National Music Centre\, 300 - 851 Fourth St. S.E.\, Calgary\, Alberta
CATEGORIES:Music & Concerts
ATTACH;FMTTYPE=image/jpeg:https://exploredowntownyyc.com/wp-content/uploads/2026/03/StudioBell_CandlelightConcerts_Series.jpg
END:VEVENT
BEGIN:VEVENT
DTSTART;TZID=UTC:20260726T183000
DTEND;TZID=UTC:20260726T183000
DTSTAMP:20260423T182504
CREATED:20260324T203759Z
LAST-MODIFIED:20260423T135250Z
UID:10002876-1785090600-1785090600@exploredowntownyyc.com
SUMMARY:Candlelight: The Best of Hans Zimmer
DESCRIPTION:Candlelight concerts bring the magic of a live\, multi-sensory musical experience to awe-inspiring locations like never seen before in Calgary. Discover the music of Hans Zimmer under the gentle glow of candlelight. (May 16\, June 21\, July 26)
URL:https://exploredowntownyyc.com/event-calendar/candlelight-the-best-of-hans-zimmer-2/2026-07-26/
LOCATION:Studio Bell – National Music Centre\, 300 - 851 Fourth St. S.E.\, Calgary\, Alberta
CATEGORIES:Music & Concerts
ATTACH;FMTTYPE=image/jpeg:https://exploredowntownyyc.com/wp-content/uploads/2026/03/StudioBell_CandlelightConcerts_Series.jpg
END:VEVENT
BEGIN:VEVENT
DTSTART;TZID=UTC:20260726T203000
DTEND;TZID=UTC:20260726T203000
DTSTAMP:20260423T182504
CREATED:20260324T212927Z
LAST-MODIFIED:20260423T164904Z
UID:10002878-1785097800-1785097800@exploredowntownyyc.com
SUMMARY:Candlelight: Tribute to ABBA
DESCRIPTION:Candlelight concerts bring the magic of a live\, multi-sensory musical experience to awe-inspiring locations like never seen before in Calgary. Discover the music of ABBA at Studio Bell under the gentle glow of candlelight. (April\, 24 May 24\, June 21\, July 26)
URL:https://exploredowntownyyc.com/event-calendar/candlelight-tribute-to-abba/2026-07-26/
LOCATION:Studio Bell – National Music Centre\, 300 - 851 Fourth St. S.E.\, Calgary\, Alberta
CATEGORIES:Music & Concerts
ATTACH;FMTTYPE=image/jpeg:https://exploredowntownyyc.com/wp-content/uploads/2026/03/StudioBell_CandlelightConcerts_Series.jpg
END:VEVENT
BEGIN:VEVENT
DTSTART;TZID=UTC:20260801T110000
DTEND;TZID=UTC:20260801T130000
DTSTAMP:20260423T182504
CREATED:20260422T214434Z
LAST-MODIFIED:20260422T214434Z
UID:10002861-1785582000-1785589200@exploredowntownyyc.com
SUMMARY:East Village Public Art Experience
DESCRIPTION:Discover the artistic gems of Calgary’s East Village through a guided experience that brings public art to life. Learn the history behind iconic public installations and contribute to public art at The Confluence’s free graffiti wall. May 2\, June 6\, July 18\, Aug. 1\, Sept. 5
URL:https://exploredowntownyyc.com/event-calendar/east-village-public-art-experience/2026-08-01/
LOCATION:The Confluence Historic Site & Parkland\, 750 Ninth Ave. S.E.\, Calgary\, Alberta\, T2G 5E1\, Canada
CATEGORIES:Galleries & Exhibitions,Museums
ATTACH;FMTTYPE=image/jpeg:https://exploredowntownyyc.com/wp-content/uploads/2026/04/East-Village-Public-Art-Experience.jpg
END:VEVENT
BEGIN:VEVENT
DTSTART;TZID=UTC:20260814T170000
DTEND;TZID=UTC:20260814T220000
DTSTAMP:20260423T182504
CREATED:20260422T181607Z
LAST-MODIFIED:20260422T184331Z
UID:10002840-1786726800-1786744800@exploredowntownyyc.com
SUMMARY:Inglewood Night Market
DESCRIPTION:The Inglewood Night Market is back to take over 10th Avenue SE\, turning the street into a full market with over 60 local artists and food vendors. It’s not something you walk through quickly; there is something happening at every corner. You can expect food trucks\, live music\, and pop-up stalls lining the sidewalks with everything from small-batch treats to handmade goods! (May 8\, June 12\, July 10\, August 14\, September 4 and 11)
URL:https://exploredowntownyyc.com/event-calendar/inglewood-night-market/2026-08-14/
LOCATION:10th avenue and 10th Street SE.\, 10th Ave. and 10th St. S.E.\, Calgary\, Alberta\, Canada
CATEGORIES:Shopping & Markets
ATTACH;FMTTYPE=image/jpeg:https://exploredowntownyyc.com/wp-content/uploads/2026/04/Inglewood-Night-Market.jpg
END:VEVENT
BEGIN:VEVENT
DTSTART;TZID=UTC:20260822T170000
DTEND;TZID=UTC:20260822T220000
DTSTAMP:20260423T182504
CREATED:20260422T175916Z
LAST-MODIFIED:20260422T183737Z
UID:10002835-1787418000-1787436000@exploredowntownyyc.com
SUMMARY:4th Street Night Market
DESCRIPTION:The 4th Street Night Market is located in the heart of The Beltline for 2026. Visit the lively main street neighborhood of 4th Street for food\, fun\, local finds\, & friends at this family-friendly\, free\, pet-friendly night market all summer long! (May 16\, June 20\, July 18\, August 22\, September 19)
URL:https://exploredowntownyyc.com/event-calendar/4th-street-night-market/2026-08-22/
LOCATION:Central Memorial Park\, 1221 Second St. S.W.\, Calgary\, Canada
CATEGORIES:Shopping & Markets
ATTACH;FMTTYPE=image/png:https://exploredowntownyyc.com/wp-content/uploads/2026/04/4th-Street-Night-Market-e1776883048196.png
END:VEVENT
BEGIN:VEVENT
DTSTART;TZID=UTC:20260904T170000
DTEND;TZID=UTC:20260904T220000
DTSTAMP:20260423T182504
CREATED:20260422T181607Z
LAST-MODIFIED:20260422T184331Z
UID:10002841-1788541200-1788559200@exploredowntownyyc.com
SUMMARY:Inglewood Night Market
DESCRIPTION:The Inglewood Night Market is back to take over 10th Avenue SE\, turning the street into a full market with over 60 local artists and food vendors. It’s not something you walk through quickly; there is something happening at every corner. You can expect food trucks\, live music\, and pop-up stalls lining the sidewalks with everything from small-batch treats to handmade goods! (May 8\, June 12\, July 10\, August 14\, September 4 and 11)
URL:https://exploredowntownyyc.com/event-calendar/inglewood-night-market/2026-09-04/
LOCATION:10th avenue and 10th Street SE.\, 10th Ave. and 10th St. S.E.\, Calgary\, Alberta\, Canada
CATEGORIES:Shopping & Markets
ATTACH;FMTTYPE=image/jpeg:https://exploredowntownyyc.com/wp-content/uploads/2026/04/Inglewood-Night-Market.jpg
END:VEVENT
BEGIN:VEVENT
DTSTART;TZID=UTC:20260905T110000
DTEND;TZID=UTC:20260905T130000
DTSTAMP:20260423T182504
CREATED:20260422T214434Z
LAST-MODIFIED:20260422T214434Z
UID:10002862-1788606000-1788613200@exploredowntownyyc.com
SUMMARY:East Village Public Art Experience
DESCRIPTION:Discover the artistic gems of Calgary’s East Village through a guided experience that brings public art to life. Learn the history behind iconic public installations and contribute to public art at The Confluence’s free graffiti wall. May 2\, June 6\, July 18\, Aug. 1\, Sept. 5
URL:https://exploredowntownyyc.com/event-calendar/east-village-public-art-experience/2026-09-05/
LOCATION:The Confluence Historic Site & Parkland\, 750 Ninth Ave. S.E.\, Calgary\, Alberta\, T2G 5E1\, Canada
CATEGORIES:Galleries & Exhibitions,Museums
ATTACH;FMTTYPE=image/jpeg:https://exploredowntownyyc.com/wp-content/uploads/2026/04/East-Village-Public-Art-Experience.jpg
END:VEVENT
BEGIN:VEVENT
DTSTART;TZID=UTC:20260911T170000
DTEND;TZID=UTC:20260911T220000
DTSTAMP:20260423T182504
CREATED:20260422T181607Z
LAST-MODIFIED:20260422T184331Z
UID:10002842-1789146000-1789164000@exploredowntownyyc.com
SUMMARY:Inglewood Night Market
DESCRIPTION:The Inglewood Night Market is back to take over 10th Avenue SE\, turning the street into a full market with over 60 local artists and food vendors. It’s not something you walk through quickly; there is something happening at every corner. You can expect food trucks\, live music\, and pop-up stalls lining the sidewalks with everything from small-batch treats to handmade goods! (May 8\, June 12\, July 10\, August 14\, September 4 and 11)
URL:https://exploredowntownyyc.com/event-calendar/inglewood-night-market/2026-09-11/
LOCATION:10th avenue and 10th Street SE.\, 10th Ave. and 10th St. S.E.\, Calgary\, Alberta\, Canada
CATEGORIES:Shopping & Markets
ATTACH;FMTTYPE=image/jpeg:https://exploredowntownyyc.com/wp-content/uploads/2026/04/Inglewood-Night-Market.jpg
END:VEVENT
BEGIN:VEVENT
DTSTART;TZID=UTC:20260919T170000
DTEND;TZID=UTC:20260919T220000
DTSTAMP:20260423T182504
CREATED:20260422T175916Z
LAST-MODIFIED:20260422T183737Z
UID:10002836-1789837200-1789855200@exploredowntownyyc.com
SUMMARY:4th Street Night Market
DESCRIPTION:The 4th Street Night Market is located in the heart of The Beltline for 2026. Visit the lively main street neighborhood of 4th Street for food\, fun\, local finds\, & friends at this family-friendly\, free\, pet-friendly night market all summer long! (May 16\, June 20\, July 18\, August 22\, September 19)
URL:https://exploredowntownyyc.com/event-calendar/4th-street-night-market/2026-09-19/
LOCATION:Central Memorial Park\, 1221 Second St. S.W.\, Calgary\, Canada
CATEGORIES:Shopping & Markets
ATTACH;FMTTYPE=image/png:https://exploredowntownyyc.com/wp-content/uploads/2026/04/4th-Street-Night-Market-e1776883048196.png
END:VEVENT
END:VCALENDAR