BEGIN:VCALENDAR
VERSION:2.0
PRODID:-//Explore Downtown YYC - ECPv6.15.18//NONSGML v1.0//EN
CALSCALE:GREGORIAN
METHOD:PUBLISH
X-WR-CALNAME:Explore Downtown YYC
X-ORIGINAL-URL:https://exploredowntownyyc.com
X-WR-CALDESC:Events for Explore Downtown YYC
REFRESH-INTERVAL;VALUE=DURATION:PT1H
X-Robots-Tag:noindex
X-PUBLISHED-TTL:PT1H
BEGIN:VTIMEZONE
TZID:UTC
BEGIN:STANDARD
TZOFFSETFROM:+0000
TZOFFSETTO:+0000
TZNAME:UTC
DTSTART:20250101T000000
END:STANDARD
END:VTIMEZONE
BEGIN:VEVENT
DTSTART;TZID=UTC:20260419T100000
DTEND;TZID=UTC:20260419T133000
DTSTAMP:20260424T174034
CREATED:20260324T144454Z
LAST-MODIFIED:20260324T144454Z
UID:10002746-1776592800-1776605400@exploredowntownyyc.com
SUMMARY:High Tea at the zoo
DESCRIPTION:High Tea at the zoo is a full day of spring fun\, perfect for all ages. Don’t miss out on this elegant affair in Grazers Restaurant on select Sundays from April 12th to May 31st\, 2026. (April 12\, 19\, 26\, May 3\, 17\, 24\, 31)
URL:https://exploredowntownyyc.com/event-calendar/high-tea-at-the-zoo/2026-04-19/
LOCATION:The Wilder Institute/Calgary Zoo\, 210 St. George's Drive NW\, Calgary\, Alberta\, T2E7V6\, Canada
ATTACH;FMTTYPE=image/jpeg:https://exploredowntownyyc.com/wp-content/uploads/2026/03/Calgary-Zoo-High-Tea.jpg
END:VEVENT
BEGIN:VEVENT
DTSTART;TZID=UTC:20260419T113000
DTEND;TZID=UTC:20260419T130000
DTSTAMP:20260424T174034
CREATED:20260324T133006Z
LAST-MODIFIED:20260325T171209Z
UID:10002797-1776598200-1776603600@exploredowntownyyc.com
SUMMARY:Path to Reconciliation Walking Tour
DESCRIPTION:Learn the truth about the impacts of colonialism in Canada on this riverside tour with stops at exhibits\, historical sites\, public art\, and monuments. This tour will share a critical look at settler-colonialism\, First Nations and Metis history\, the Indian Residential School System\, the Indian Act\, and how Treaty 7 shaped the history of the place we now call Calgary. (April 5\, 12\, 19\, 26)
URL:https://exploredowntownyyc.com/event-calendar/path-to-reconciliation-walking-tour/2026-04-19/
LOCATION:The Confluence Historic Site & Parkland\, 750 Ninth Ave. S.E.\, Calgary\, Alberta\, T2G 5E1\, Canada
ATTACH;FMTTYPE=image/jpeg:https://exploredowntownyyc.com/wp-content/uploads/2026/03/Confluence-Path-to-Reconciliation-Walking-Tour.jpg
END:VEVENT
BEGIN:VEVENT
DTSTART;TZID=UTC:20260420T153000
DTEND;TZID=UTC:20260420T180000
DTSTAMP:20260424T174034
CREATED:20260324T174827Z
LAST-MODIFIED:20260324T220154Z
UID:10002767-1776699000-1776708000@exploredowntownyyc.com
SUMMARY:Downtown Tutoring Club
DESCRIPTION:Need help with homework? Our free drop-in tutoring program downtown is for junior high and high school students. RSVP your spot or come in when you can. Our tutors walk around and help with English\, math\, and science\, whether you have one small question or a lot to work on. It’s a relaxed\, friendly place to get help\, learn more\, and feel better about school. Walk-ins welcome. Email goodneighbouryyc@gmail.com for more information.
URL:https://exploredowntownyyc.com/event-calendar/downtown-tutoring-club/2026-04-20/
LOCATION:Various Locations
ATTACH;FMTTYPE=image/png:https://exploredowntownyyc.com/wp-content/uploads/2026/03/DT_Tutor.png
END:VEVENT
BEGIN:VEVENT
DTSTART;VALUE=DATE:20260422
DTEND;VALUE=DATE:20260427
DTSTAMP:20260424T174034
CREATED:20260324T173753Z
LAST-MODIFIED:20260324T173909Z
UID:10002713-1776816000-1777247999@exploredowntownyyc.com
SUMMARY:Feast on 4th
DESCRIPTION:One of Calgary’s signature food events\, Feast on 4th transforms 4th Street SW into a bustling culinary corridor. Local restaurants\, food vendors\, and artisan producers come together for a multi-day celebration of the city’s food and drink scene.
URL:https://exploredowntownyyc.com/event-calendar/feast-on-4th/
LOCATION:Across multiple venues
ATTACH;FMTTYPE=image/jpeg:https://exploredowntownyyc.com/wp-content/uploads/2025/07/feast-fourth.jpg
END:VEVENT
BEGIN:VEVENT
DTSTART;TZID=UTC:20260422T183000
DTEND;TZID=UTC:20260422T203000
DTSTAMP:20260424T174034
CREATED:20260324T132716Z
LAST-MODIFIED:20260324T132716Z
UID:10002726-1776882600-1776889800@exploredowntownyyc.com
SUMMARY:Classics & Crafts: The Grand Budapest Hotel (2014)
DESCRIPTION:Fuel your creativity with movies on the big screen at Classics and Crafts! Bring your current craft project and join us for a nostalgic trip down memory lane with beloved classic films in the Burnswest Theatre.
URL:https://exploredowntownyyc.com/event-calendar/classics-crafts-the-grand-budapest-hotel-2014/
LOCATION:The Confluence Historic Site & Parkland\, 750 Ninth Ave. S.E.\, Calgary\, Alberta\, T2G 5E1\, Canada
ATTACH;FMTTYPE=image/jpeg:https://exploredowntownyyc.com/wp-content/uploads/2026/03/Confluence-Classics-Crafts.jpg
END:VEVENT
BEGIN:VEVENT
DTSTART;VALUE=DATE:20260423
DTEND;VALUE=DATE:20260427
DTSTAMP:20260424T174034
CREATED:20260323T174233Z
LAST-MODIFIED:20260323T174559Z
UID:10002737-1776902400-1777247999@exploredowntownyyc.com
SUMMARY:Calgary Expo
DESCRIPTION:Four days of unlimited fandom. Every spring\, hundreds of thousands of fans descend upon Stampede Park for the Calgary Comic Expo. This year’s event features the hobbits from Lord of the Rings\, including Elijah Wood\, Sean Astin\, Dominic Monaghan\, and Billy Boyd. Plus\, many more big-name celebs you won’t want to miss!
URL:https://exploredowntownyyc.com/event-calendar/calgary-expo/
LOCATION:Stampede Park\, 650 25th Ave. S.E.\, Calgary\, Alberta\, T2G 4K8\, Canada
ATTACH;FMTTYPE=image/png:https://exploredowntownyyc.com/wp-content/uploads/2026/03/Calgary-Expo.png
END:VEVENT
BEGIN:VEVENT
DTSTART;TZID=UTC:20260423T153000
DTEND;TZID=UTC:20260423T180000
DTSTAMP:20260424T174034
CREATED:20260324T174827Z
LAST-MODIFIED:20260324T220154Z
UID:10002768-1776958200-1776967200@exploredowntownyyc.com
SUMMARY:Downtown Tutoring Club
DESCRIPTION:Need help with homework? Our free drop-in tutoring program downtown is for junior high and high school students. RSVP your spot or come in when you can. Our tutors walk around and help with English\, math\, and science\, whether you have one small question or a lot to work on. It’s a relaxed\, friendly place to get help\, learn more\, and feel better about school. Walk-ins welcome. Email goodneighbouryyc@gmail.com for more information.
URL:https://exploredowntownyyc.com/event-calendar/downtown-tutoring-club/2026-04-23/
LOCATION:Various Locations
ATTACH;FMTTYPE=image/png:https://exploredowntownyyc.com/wp-content/uploads/2026/03/DT_Tutor.png
END:VEVENT
BEGIN:VEVENT
DTSTART;TZID=UTC:20260424T100000
DTEND;TZID=UTC:20260424T120000
DTSTAMP:20260424T174034
CREATED:20260414T213823Z
LAST-MODIFIED:20260414T213823Z
UID:10002801-1777024800-1777032000@exploredowntownyyc.com
SUMMARY:Internet Safety
DESCRIPTION:Join The City of Calgary in partnership with Child Safe Canada for an engaging and interactive program from 10:00 a.m. – noon\, designed to help children ages 8 – 13 have fun while being safe online. Children will learn through scenarios\, roleplaying\, and discussion. Participants must live in Downtown or Beltline Neighbourhood. To register for your free spot\, contact Twyla Moon: twyla.moon@calgary.ca / (403) 703-5104 or Silvia Ross:silvia.ross@calgary.ca / (403) 540-0160.
URL:https://exploredowntownyyc.com/event-calendar/internet-safety/
LOCATION:Central Library\, 800 3 St S.E.\, Calgary\, Alberta
CATEGORIES:Festivals & Events
ATTACH;FMTTYPE=image/jpeg:https://exploredowntownyyc.com/wp-content/uploads/2026/04/internet-safety.jpg
END:VEVENT
BEGIN:VEVENT
DTSTART;TZID=UTC:20260424T183000
DTEND;TZID=UTC:20260424T193000
DTSTAMP:20260424T174034
CREATED:20260324T213753Z
LAST-MODIFIED:20260324T213753Z
UID:10002761-1777055400-1777059000@exploredowntownyyc.com
SUMMARY:Candlelight: Tribute to Pink Floyd
DESCRIPTION:Candlelight concerts bring the magic of a live\, multi-sensory musical experience to awe-inspiring locations like never seen before in Calgary. Discover the music of Pink Floyd under the gentle glow of candlelight. (April 4 & 24)
URL:https://exploredowntownyyc.com/event-calendar/candlelight-tribute-to-pink-floyd/2026-04-24/
LOCATION:Studio Bell – National Music Centre\, 300 - 851 Fourth St. S.E.\, Calgary\, Alberta
ATTACH;FMTTYPE=image/jpeg:https://exploredowntownyyc.com/wp-content/uploads/2026/03/StudioBell_CandlelightConcerts_Series.jpg
END:VEVENT
BEGIN:VEVENT
DTSTART;TZID=UTC:20260424T193000
DTEND;TZID=UTC:20260424T210000
DTSTAMP:20260424T174034
CREATED:20260324T193549Z
LAST-MODIFIED:20260325T131507Z
UID:10002793-1777059000-1777064400@exploredowntownyyc.com
SUMMARY:To Be or Not To Be Determined
DESCRIPTION:One night only\, never to be seen before or again\, a new play as Shakespeare would have intended had he lived for another 400 years. Princes and kings\, queens and jesters\, grave diggers and long lost twins—join this talented cast who have been speaking in iambic pentameter for at least a fortnight as they discover in the moment if they’re in a tragedy or a romance. (April\, 3\, 10\, 17\, 24)
URL:https://exploredowntownyyc.com/event-calendar/to-be-or-not-to-be-determined/2026-04-24/
LOCATION:BLOX Arts Centre\, 834 11 Ave. S.W.\, Calgary\, Alberta\, T2R 0E5\, Canada
ATTACH;FMTTYPE=image/png:https://exploredowntownyyc.com/wp-content/uploads/2026/03/To-be-or-not-to-be.png
END:VEVENT
BEGIN:VEVENT
DTSTART;TZID=UTC:20260424T203000
DTEND;TZID=UTC:20260424T203000
DTSTAMP:20260424T174034
CREATED:20260324T212927Z
LAST-MODIFIED:20260423T164904Z
UID:10002887-1777062600-1777062600@exploredowntownyyc.com
SUMMARY:Candlelight: Tribute to ABBA
DESCRIPTION:Candlelight concerts bring the magic of a live\, multi-sensory musical experience to awe-inspiring locations like never seen before in Calgary. Discover the music of ABBA at Studio Bell under the gentle glow of candlelight. (April\, 24 May 24\, June 21\, July 26)
URL:https://exploredowntownyyc.com/event-calendar/candlelight-tribute-to-abba/2026-04-24/
LOCATION:Studio Bell – National Music Centre\, 300 - 851 Fourth St. S.E.\, Calgary\, Alberta
CATEGORIES:Music & Concerts
ATTACH;FMTTYPE=image/jpeg:https://exploredowntownyyc.com/wp-content/uploads/2026/03/StudioBell_CandlelightConcerts_Series.jpg
END:VEVENT
BEGIN:VEVENT
DTSTART;TZID=UTC:20260425T000000
DTEND;TZID=UTC:20260425T000000
DTSTAMP:20260424T174034
CREATED:20260223T184112Z
LAST-MODIFIED:20260223T184112Z
UID:10002649-1777075200-1777075200@exploredowntownyyc.com
SUMMARY:NMC & Craig Senyk Initiatives Present: Heartstrings and Honky Tonks
DESCRIPTION:Dust off your boots and join us for a legendary salute to the beloved country song as Heartstrings & Honky Tonks returns to Calgary.
URL:https://exploredowntownyyc.com/event-calendar/heartstrings-and-honky-tonks/
LOCATION:Studio Bell – National Music Centre\, 300 - 851 Fourth St. S.E.\, Calgary\, Alberta
CATEGORIES:Music & Concerts
ATTACH;FMTTYPE=image/jpeg:https://exploredowntownyyc.com/wp-content/uploads/2026/02/1900-x-800-WEBBANNER_2026-01-28-230616_gnbf-e1771872062657.jpg
END:VEVENT
BEGIN:VEVENT
DTSTART;TZID=UTC:20260425T193000
DTEND;TZID=UTC:20260425T213000
DTSTAMP:20260424T174034
CREATED:20260323T173210Z
LAST-MODIFIED:20260323T174548Z
UID:10002735-1777145400-1777152600@exploredowntownyyc.com
SUMMARY:Tenille Townes + the Calgary Philharmonic Orchestra
DESCRIPTION:Country Music Award-winner Tenille Townes performs her biggest hits with your Calgary Phil! Experience the potent stories and open-hearted lyrics of her soul-searching songs and raw ballads amplified with symphonic sounds.
URL:https://exploredowntownyyc.com/event-calendar/tenille-townes-the-calgary-philharmonic-orchestra/
LOCATION:Jack Singer Concert Hall\, 225 Eighth Ave. S.E.\, Calgary\, Alberta
ATTACH;FMTTYPE=image/png:https://exploredowntownyyc.com/wp-content/uploads/2026/03/CalgaryPhil_TenilleTownes_840x530.png
END:VEVENT
BEGIN:VEVENT
DTSTART;TZID=UTC:20260426T100000
DTEND;TZID=UTC:20260426T133000
DTSTAMP:20260424T174034
CREATED:20260324T144454Z
LAST-MODIFIED:20260324T144454Z
UID:10002747-1777197600-1777210200@exploredowntownyyc.com
SUMMARY:High Tea at the zoo
DESCRIPTION:High Tea at the zoo is a full day of spring fun\, perfect for all ages. Don’t miss out on this elegant affair in Grazers Restaurant on select Sundays from April 12th to May 31st\, 2026. (April 12\, 19\, 26\, May 3\, 17\, 24\, 31)
URL:https://exploredowntownyyc.com/event-calendar/high-tea-at-the-zoo/2026-04-26/
LOCATION:The Wilder Institute/Calgary Zoo\, 210 St. George's Drive NW\, Calgary\, Alberta\, T2E7V6\, Canada
ATTACH;FMTTYPE=image/jpeg:https://exploredowntownyyc.com/wp-content/uploads/2026/03/Calgary-Zoo-High-Tea.jpg
END:VEVENT
BEGIN:VEVENT
DTSTART;TZID=UTC:20260426T113000
DTEND;TZID=UTC:20260426T130000
DTSTAMP:20260424T174034
CREATED:20260324T133006Z
LAST-MODIFIED:20260325T171209Z
UID:10002798-1777203000-1777208400@exploredowntownyyc.com
SUMMARY:Path to Reconciliation Walking Tour
DESCRIPTION:Learn the truth about the impacts of colonialism in Canada on this riverside tour with stops at exhibits\, historical sites\, public art\, and monuments. This tour will share a critical look at settler-colonialism\, First Nations and Metis history\, the Indian Residential School System\, the Indian Act\, and how Treaty 7 shaped the history of the place we now call Calgary. (April 5\, 12\, 19\, 26)
URL:https://exploredowntownyyc.com/event-calendar/path-to-reconciliation-walking-tour/2026-04-26/
LOCATION:The Confluence Historic Site & Parkland\, 750 Ninth Ave. S.E.\, Calgary\, Alberta\, T2G 5E1\, Canada
ATTACH;FMTTYPE=image/jpeg:https://exploredowntownyyc.com/wp-content/uploads/2026/03/Confluence-Path-to-Reconciliation-Walking-Tour.jpg
END:VEVENT
BEGIN:VEVENT
DTSTART;TZID=UTC:20260427T153000
DTEND;TZID=UTC:20260427T180000
DTSTAMP:20260424T174034
CREATED:20260324T174827Z
LAST-MODIFIED:20260324T220154Z
UID:10002769-1777303800-1777312800@exploredowntownyyc.com
SUMMARY:Downtown Tutoring Club
DESCRIPTION:Need help with homework? Our free drop-in tutoring program downtown is for junior high and high school students. RSVP your spot or come in when you can. Our tutors walk around and help with English\, math\, and science\, whether you have one small question or a lot to work on. It’s a relaxed\, friendly place to get help\, learn more\, and feel better about school. Walk-ins welcome. Email goodneighbouryyc@gmail.com for more information.
URL:https://exploredowntownyyc.com/event-calendar/downtown-tutoring-club/2026-04-27/
LOCATION:Various Locations
ATTACH;FMTTYPE=image/png:https://exploredowntownyyc.com/wp-content/uploads/2026/03/DT_Tutor.png
END:VEVENT
BEGIN:VEVENT
DTSTART;VALUE=DATE:20260429
DTEND;VALUE=DATE:20260506
DTSTAMP:20260424T174034
CREATED:20260323T161740Z
LAST-MODIFIED:20260323T172017Z
UID:10002739-1777420800-1778025599@exploredowntownyyc.com
SUMMARY:International Jazz Days Festival
DESCRIPTION:It all happens starting April 29 at some of Calgary’s finest music venues. JazzYYC’s International Jazz Days Festival features some of the finest musicians from here and around the world.
URL:https://exploredowntownyyc.com/event-calendar/international-jazz-days-festival/
LOCATION:Various Locations
CATEGORIES:Music & Concerts
ATTACH;FMTTYPE=image/jpeg:https://exploredowntownyyc.com/wp-content/uploads/2026/03/International_Jazz_Days_white_BG-1.jpg
END:VEVENT
BEGIN:VEVENT
DTSTART;VALUE=DATE:20260430
DTEND;VALUE=DATE:20260504
DTSTAMP:20260424T174034
CREATED:20260422T182529Z
LAST-MODIFIED:20260422T184423Z
UID:10002830-1777507200-1777852799@exploredowntownyyc.com
SUMMARY:FascinAsian Film Festival
DESCRIPTION:A three-day festival of films and events\, celebrating Asian Heritage Month with the stories and perspectives of Asian-Canadian filmmakers from Winnipeg\, Calgary and abroad! Features short films and live streamed events showcasing Asian talent from across Canada and the US!
URL:https://exploredowntownyyc.com/event-calendar/fascinasian-film-festival/
LOCATION:Central Library\, 800 3 St S.E.\, Calgary\, Alberta
CATEGORIES:Film & Movies
ATTACH;FMTTYPE=image/jpeg:https://exploredowntownyyc.com/wp-content/uploads/2026/04/FascinAsian-FIlm-Festival.jpg
END:VEVENT
BEGIN:VEVENT
DTSTART;TZID=UTC:20260430T153000
DTEND;TZID=UTC:20260430T180000
DTSTAMP:20260424T174034
CREATED:20260324T174827Z
LAST-MODIFIED:20260324T220154Z
UID:10002770-1777563000-1777572000@exploredowntownyyc.com
SUMMARY:Downtown Tutoring Club
DESCRIPTION:Need help with homework? Our free drop-in tutoring program downtown is for junior high and high school students. RSVP your spot or come in when you can. Our tutors walk around and help with English\, math\, and science\, whether you have one small question or a lot to work on. It’s a relaxed\, friendly place to get help\, learn more\, and feel better about school. Walk-ins welcome. Email goodneighbouryyc@gmail.com for more information.
URL:https://exploredowntownyyc.com/event-calendar/downtown-tutoring-club/2026-04-30/
LOCATION:Various Locations
ATTACH;FMTTYPE=image/png:https://exploredowntownyyc.com/wp-content/uploads/2026/03/DT_Tutor.png
END:VEVENT
BEGIN:VEVENT
DTSTART;VALUE=DATE:20260501
DTEND;VALUE=DATE:20260503
DTSTAMP:20260424T174034
CREATED:20260423T133924Z
LAST-MODIFIED:20260423T133924Z
UID:10002807-1777593600-1777766399@exploredowntownyyc.com
SUMMARY:Calgary International Beerfest
DESCRIPTION:The Calgary International Beerfest returns to the BMO Centre at Stampede Park with a dynamic celebration of craft beer\, spirits and cider from local and international producers\, paired with great food\, live entertainment and interactive seminars. Guests can sample a wide variety of beverages while enjoying Calgary’s premier after-parties and a vibrant festival atmosphere.
URL:https://exploredowntownyyc.com/event-calendar/calgary-international-beerfest/
LOCATION:BMO Centre\, 20 Roundup Way S.E.\, Calgary\, Alberta
CATEGORIES:Food & Drink
ATTACH;FMTTYPE=image/jpeg:https://exploredowntownyyc.com/wp-content/uploads/2026/04/Calgary-International-Beer-Fest.jpg
END:VEVENT
BEGIN:VEVENT
DTSTART;TZID=UTC:20260502T110000
DTEND;TZID=UTC:20260502T130000
DTSTAMP:20260424T174034
CREATED:20260422T214434Z
LAST-MODIFIED:20260422T214434Z
UID:10002858-1777719600-1777726800@exploredowntownyyc.com
SUMMARY:East Village Public Art Experience
DESCRIPTION:Discover the artistic gems of Calgary’s East Village through a guided experience that brings public art to life. Learn the history behind iconic public installations and contribute to public art at The Confluence’s free graffiti wall. May 2\, June 6\, July 18\, Aug. 1\, Sept. 5
URL:https://exploredowntownyyc.com/event-calendar/east-village-public-art-experience/2026-05-02/
LOCATION:The Confluence Historic Site & Parkland\, 750 Ninth Ave. S.E.\, Calgary\, Alberta\, T2G 5E1\, Canada
CATEGORIES:Galleries & Exhibitions,Museums
ATTACH;FMTTYPE=image/jpeg:https://exploredowntownyyc.com/wp-content/uploads/2026/04/East-Village-Public-Art-Experience.jpg
END:VEVENT
BEGIN:VEVENT
DTSTART;TZID=UTC:20260502T120000
DTEND;TZID=UTC:20260502T160000
DTSTAMP:20260424T174034
CREATED:20260422T184752Z
LAST-MODIFIED:20260422T184903Z
UID:10002829-1777723200-1777737600@exploredowntownyyc.com
SUMMARY:East Village Community Safety Open House
DESCRIPTION:Join CMLC\, the master developer of East Village\, at the Community Safety Open House to meet the many organizations and teams who look after our streets and spaces\, support neighbours in need\, and help keep East Village active and welcoming.
URL:https://exploredowntownyyc.com/event-calendar/east-village-community-safety-open-house/
LOCATION:Celebration Square\, 508 Seventh Ave. S.E.\, Calgary\, Alberta\, Canada
CATEGORIES:Education
ATTACH;FMTTYPE=image/jpeg:https://exploredowntownyyc.com/wp-content/uploads/2026/04/East-Village-Safety-Open-House.jpg
END:VEVENT
BEGIN:VEVENT
DTSTART;TZID=UTC:20260502T130000
DTEND;TZID=UTC:20260502T130000
DTSTAMP:20260424T174034
CREATED:20260423T134215Z
LAST-MODIFIED:20260423T134425Z
UID:10002808-1777726800-1777726800@exploredowntownyyc.com
SUMMARY:Asian Heritage Month at Studio Bell
DESCRIPTION:Celebrate Asian Heritage Month at Studio Bell with a special afternoon performance blending traditional and contemporary Chinese music\, presented in partnership with the Chinese Artists Association of Alberta. Featuring Calgary-based ensemble The GCB\, this included-with-admission event explores themes of identity\, culture\, and connection through a dynamic\, cross‑cultural soundscape.
URL:https://exploredowntownyyc.com/event-calendar/asian-heritage-month-at-studio-bell/
LOCATION:Studio Bell – National Music Centre\, 300 - 851 Fourth St. S.E.\, Calgary\, Alberta
CATEGORIES:Music & Concerts
ATTACH;FMTTYPE=image/png:https://exploredowntownyyc.com/wp-content/uploads/2026/04/Studio-Bell_Asian-Heritage-Month.png
END:VEVENT
BEGIN:VEVENT
DTSTART;TZID=UTC:20260502T170000
DTEND;TZID=UTC:20260502T170000
DTSTAMP:20260424T174034
CREATED:20260423T133103Z
LAST-MODIFIED:20260423T133103Z
UID:10002810-1777741200-1777741200@exploredowntownyyc.com
SUMMARY:LOOK26 Gala: Off The Path
DESCRIPTION:LOOK26 Gala: Off The Path invites guests to an unforgettable night at Contemporary Calgary\, where immersive installations\, live performances\, fine dining and art auctions transform the gallery into a fantastical\, otherworldly forest inspired by local artist duo DaveandJenn. This annual gala supports Contemporary Calgary while celebrating art\, community\, and creativity through an evening of revelry and imagination.
URL:https://exploredowntownyyc.com/event-calendar/look26-gala-off-the-path/
LOCATION:Contemporary Calgary\, 701 11 St. S.W.\, Calgary\, Alberta\, T2P 2C4\, Canada
CATEGORIES:Galleries & Exhibitions,Museums
ATTACH;FMTTYPE=image/jpeg:https://exploredowntownyyc.com/wp-content/uploads/2026/04/Contemporary-Calgary-Look26-Gala.jpg
END:VEVENT
BEGIN:VEVENT
DTSTART;TZID=UTC:20260502T170000
DTEND;TZID=UTC:20260502T210000
DTSTAMP:20260424T174034
CREATED:20260422T215606Z
LAST-MODIFIED:20260422T215606Z
UID:10002863-1777741200-1777755600@exploredowntownyyc.com
SUMMARY:Wild After Hours: Penguins (18+)
DESCRIPTION:Step into the secret world of penguins at this adults-only event that explores the fascinating lives of these unique birds. Begin your evening with an exclusive\, after-hours viewing of our Penguin Plunge habitat\, then head to Safari Lodge for a delicious four-course meal. May 2 & 16
URL:https://exploredowntownyyc.com/event-calendar/wild-after-hours-penguins-18/2026-05-02/
LOCATION:Wilder Institute/Calgary Zoo\, 1300 Zoo Rd N.E.\, Calgary\, Alberta
CATEGORIES:Food & Drink
ATTACH;FMTTYPE=image/png:https://exploredowntownyyc.com/wp-content/uploads/2026/04/Calgary-Zoo-wild-after-hours.png
END:VEVENT
BEGIN:VEVENT
DTSTART;TZID=UTC:20260502T193000
DTEND;TZID=UTC:20260502T193000
DTSTAMP:20260424T174034
CREATED:20260423T133509Z
LAST-MODIFIED:20260423T133509Z
UID:10002809-1777750200-1777750200@exploredowntownyyc.com
SUMMARY:Alberta in Harmony: The Planets
DESCRIPTION:Experience an epic orchestral collaboration as the Calgary Philharmonic Orchestra joins the Edmonton Symphony Orchestra for Alberta in Harmony: The Planets at Jack Singer Concert Hall. This powerful program features John Luther Adams’ immersive Become Ocean alongside Gustav Holst’s iconic The Planets\, delivering an evening of awe‑inspiring sound and celestial storytelling.
URL:https://exploredowntownyyc.com/event-calendar/alberta-in-harmony-the-planets/
LOCATION:Jack Singer Concert Hall\, 225 Eighth Ave. S.E.\, Calgary\, Alberta
CATEGORIES:Music & Concerts
ATTACH;FMTTYPE=image/png:https://exploredowntownyyc.com/wp-content/uploads/2026/04/2526_Web_ConcertImages_36_ESOPlanets_840x530.png
END:VEVENT
BEGIN:VEVENT
DTSTART;TZID=UTC:20260503T100000
DTEND;TZID=UTC:20260503T133000
DTSTAMP:20260424T174034
CREATED:20260324T144454Z
LAST-MODIFIED:20260324T144454Z
UID:10002748-1777802400-1777815000@exploredowntownyyc.com
SUMMARY:High Tea at the zoo
DESCRIPTION:High Tea at the zoo is a full day of spring fun\, perfect for all ages. Don’t miss out on this elegant affair in Grazers Restaurant on select Sundays from April 12th to May 31st\, 2026. (April 12\, 19\, 26\, May 3\, 17\, 24\, 31)
URL:https://exploredowntownyyc.com/event-calendar/high-tea-at-the-zoo/2026-05-03/
LOCATION:The Wilder Institute/Calgary Zoo\, 210 St. George's Drive NW\, Calgary\, Alberta\, T2E7V6\, Canada
ATTACH;FMTTYPE=image/jpeg:https://exploredowntownyyc.com/wp-content/uploads/2026/03/Calgary-Zoo-High-Tea.jpg
END:VEVENT
BEGIN:VEVENT
DTSTART;TZID=UTC:20260503T123000
DTEND;TZID=UTC:20260503T140000
DTSTAMP:20260424T174034
CREATED:20260422T213557Z
LAST-MODIFIED:20260422T213557Z
UID:10002856-1777811400-1777816800@exploredowntownyyc.com
SUMMARY:Understanding History Through Art
DESCRIPTION:Experience The Confluence’s temporary exhibits while you can in this unique guided tour and art program in our White Box space. Learn about the three art exhibitions currently on exhibit and a short history on artist responses throughout and in response to Canadian history. Following the tour\, create your own artist response with a provided canvas\, paint\, stencils and other materials. May 3 & 16
URL:https://exploredowntownyyc.com/event-calendar/understanding-history-through-art/2026-05-03/
LOCATION:The Confluence Historic Site & Parkland\, 750 Ninth Ave. S.E.\, Calgary\, Alberta\, T2G 5E1\, Canada
CATEGORIES:Galleries & Exhibitions,Museums
ATTACH;FMTTYPE=image/jpeg:https://exploredowntownyyc.com/wp-content/uploads/2026/04/Understanding-History-Through-Art.jpg
END:VEVENT
BEGIN:VEVENT
DTSTART;VALUE=DATE:20260504
DTEND;VALUE=DATE:20260522
DTSTAMP:20260424T174034
CREATED:20260423T132654Z
LAST-MODIFIED:20260423T133218Z
UID:10002812-1777852800-1779407999@exploredowntownyyc.com
SUMMARY:LitCon 2026 | A Calgary Youth Literary Arts Festival
DESCRIPTION:Join Calgary Public Library for LitCon 2026! These virtual sessions throughout the month of May are designed for the classroom to inspire students to explore creative processes in writing\, drawing\, poetry\, music\, comics\, oral storytelling\, and more. Recommended for Grades K – 9.
URL:https://exploredowntownyyc.com/event-calendar/litcon-2026-a-calgary-youth-literary-arts-festival/
LOCATION:Various Locations
CATEGORIES:Education
ATTACH;FMTTYPE=image/jpeg:https://exploredowntownyyc.com/wp-content/uploads/2026/04/LitCon-Calgary-Public-Library.jpg
END:VEVENT
BEGIN:VEVENT
DTSTART;TZID=UTC:20260504T153000
DTEND;TZID=UTC:20260504T180000
DTSTAMP:20260424T174034
CREATED:20260324T174827Z
LAST-MODIFIED:20260324T220154Z
UID:10002771-1777908600-1777917600@exploredowntownyyc.com
SUMMARY:Downtown Tutoring Club
DESCRIPTION:Need help with homework? Our free drop-in tutoring program downtown is for junior high and high school students. RSVP your spot or come in when you can. Our tutors walk around and help with English\, math\, and science\, whether you have one small question or a lot to work on. It’s a relaxed\, friendly place to get help\, learn more\, and feel better about school. Walk-ins welcome. Email goodneighbouryyc@gmail.com for more information.
URL:https://exploredowntownyyc.com/event-calendar/downtown-tutoring-club/2026-05-04/
LOCATION:Various Locations
ATTACH;FMTTYPE=image/png:https://exploredowntownyyc.com/wp-content/uploads/2026/03/DT_Tutor.png
END:VEVENT
END:VCALENDAR