BEGIN:VCALENDAR
VERSION:2.0
PRODID:-//Explore Downtown YYC - ECPv6.15.18//NONSGML v1.0//EN
CALSCALE:GREGORIAN
METHOD:PUBLISH
X-ORIGINAL-URL:https://exploredowntownyyc.com
X-WR-CALDESC:Events for Explore Downtown YYC
REFRESH-INTERVAL;VALUE=DURATION:PT1H
X-Robots-Tag:noindex
X-PUBLISHED-TTL:PT1H
BEGIN:VTIMEZONE
TZID:UTC
BEGIN:STANDARD
TZOFFSETFROM:+0000
TZOFFSETTO:+0000
TZNAME:UTC
DTSTART:20250101T000000
END:STANDARD
END:VTIMEZONE
BEGIN:VEVENT
DTSTART;TZID=UTC:20260524T183000
DTEND;TZID=UTC:20260524T193000
DTSTAMP:20260423T071926
CREATED:20260323T194314Z
LAST-MODIFIED:20260323T194314Z
UID:10002734-1779647400-1779651000@exploredowntownyyc.com
SUMMARY:Candlelight: Ed Sheeran Meets Coldplay
DESCRIPTION:Candlelight concerts bring the magic of a live\, multi-sensory musical experience to awe-inspiring locations like never seen before in Calgary. Discover the music of Ed Sheeran and Coldplay under the gentle glow of candlelight.
URL:https://exploredowntownyyc.com/event-calendar/candlelight-ed-sheeran-meets-coldplay/
LOCATION:Studio Bell – National Music Centre\, 300 - 851 Fourth St. S.E.\, Calgary\, Alberta
ATTACH;FMTTYPE=image/jpeg:https://exploredowntownyyc.com/wp-content/uploads/2026/03/StudioBell_CandlelightConcerts_Series.jpg
END:VEVENT
BEGIN:VEVENT
DTSTART;TZID=UTC:20260524T203000
DTEND;TZID=UTC:20260524T213000
DTSTAMP:20260423T071926
CREATED:20260324T212927Z
LAST-MODIFIED:20260324T212927Z
UID:10002758-1779654600-1779658200@exploredowntownyyc.com
SUMMARY:Candlelight: Tribute to ABBA
DESCRIPTION:Candlelight concerts bring the magic of a live\, multi-sensory musical experience to awe-inspiring locations like never seen before in Calgary. Discover the music of ABBA at Studio Bell under the gentle glow of candlelight. (April 4 & 24\, May 24\, June 21)
URL:https://exploredowntownyyc.com/event-calendar/candlelight-tribute-to-abba/2026-05-24/
LOCATION:Studio Bell – National Music Centre\, 300 - 851 Fourth St. S.E.\, Calgary\, Alberta
ATTACH;FMTTYPE=image/jpeg:https://exploredowntownyyc.com/wp-content/uploads/2026/03/StudioBell_CandlelightConcerts_Series.jpg
END:VEVENT
BEGIN:VEVENT
DTSTART;TZID=UTC:20260525T153000
DTEND;TZID=UTC:20260525T180000
DTSTAMP:20260423T071926
CREATED:20260324T174827Z
LAST-MODIFIED:20260324T220154Z
UID:10002777-1779723000-1779732000@exploredowntownyyc.com
SUMMARY:Downtown Tutoring Club
DESCRIPTION:Need help with homework? Our free drop-in tutoring program downtown is for junior high and high school students. RSVP your spot or come in when you can. Our tutors walk around and help with English\, math\, and science\, whether you have one small question or a lot to work on. It’s a relaxed\, friendly place to get help\, learn more\, and feel better about school. Walk-ins welcome. Email goodneighbouryyc@gmail.com for more information.
URL:https://exploredowntownyyc.com/event-calendar/downtown-tutoring-club/2026-05-25/
LOCATION:Various Locations
ATTACH;FMTTYPE=image/png:https://exploredowntownyyc.com/wp-content/uploads/2026/03/DT_Tutor.png
END:VEVENT
BEGIN:VEVENT
DTSTART;TZID=UTC:20260528T153000
DTEND;TZID=UTC:20260528T180000
DTSTAMP:20260423T071926
CREATED:20260324T174827Z
LAST-MODIFIED:20260324T220154Z
UID:10002778-1779982200-1779991200@exploredowntownyyc.com
SUMMARY:Downtown Tutoring Club
DESCRIPTION:Need help with homework? Our free drop-in tutoring program downtown is for junior high and high school students. RSVP your spot or come in when you can. Our tutors walk around and help with English\, math\, and science\, whether you have one small question or a lot to work on. It’s a relaxed\, friendly place to get help\, learn more\, and feel better about school. Walk-ins welcome. Email goodneighbouryyc@gmail.com for more information.
URL:https://exploredowntownyyc.com/event-calendar/downtown-tutoring-club/2026-05-28/
LOCATION:Various Locations
ATTACH;FMTTYPE=image/png:https://exploredowntownyyc.com/wp-content/uploads/2026/03/DT_Tutor.png
END:VEVENT
BEGIN:VEVENT
DTSTART;TZID=UTC:20260529T180000
DTEND;TZID=UTC:20260529T230000
DTSTAMP:20260423T071926
CREATED:20260316T201153Z
LAST-MODIFIED:20260316T201837Z
UID:10002695-1780077600-1780095600@exploredowntownyyc.com
SUMMARY:Pearls & Prosecco Rooftop White Party
DESCRIPTION:Celebrate in style under the Calgary skyline at Safe Haven Foundation’s Pearls & Prosecco Rooftop White Party. Join us above the city for a stylish night of celebration\, community and purpose.
URL:https://exploredowntownyyc.com/event-calendar/pearls-prosecco-rooftop-white-party/
LOCATION:Calgary Marriott Downtown Hotel\, 110 Ninth Ave. S.E.\, Calgary\, Alberta\, T2G 0P5\, Canada
CATEGORIES:Festivals & Events
ATTACH;FMTTYPE=image/jpeg:https://exploredowntownyyc.com/wp-content/uploads/2026/03/Pearls-Prosecco-Rooftop-White-Party.jpg
END:VEVENT
BEGIN:VEVENT
DTSTART;TZID=UTC:20260529T193000
DTEND;TZID=UTC:20260529T213000
DTSTAMP:20260423T071926
CREATED:20260422T185531Z
LAST-MODIFIED:20260422T185719Z
UID:10002845-1780083000-1780090200@exploredowntownyyc.com
SUMMARY:Broadway Hits: Hamilton\, Rent + More!
DESCRIPTION:Juliane Gallant and two marvellous vocal stars team up with the Orchestra to perform memorable tunes from modern musicals\, including Hamilton and Rent\, plus the great Stephen Sondheim’s songs from Sweeney Todd and Company.
URL:https://exploredowntownyyc.com/event-calendar/broadway-hits-hamilton-rent-more/2026-05-29/
LOCATION:Jack Singer Concert Hall\, 225 Eighth Ave. S.E.\, Calgary\, Alberta
CATEGORIES:Music & Concerts
ATTACH;FMTTYPE=image/png:https://exploredowntownyyc.com/wp-content/uploads/2026/04/Calgary-Phil-Broadway.png
END:VEVENT
BEGIN:VEVENT
DTSTART;TZID=UTC:20260530T193000
DTEND;TZID=UTC:20260530T213000
DTSTAMP:20260423T071926
CREATED:20260422T185531Z
LAST-MODIFIED:20260422T185719Z
UID:10002846-1780169400-1780176600@exploredowntownyyc.com
SUMMARY:Broadway Hits: Hamilton\, Rent + More!
DESCRIPTION:Juliane Gallant and two marvellous vocal stars team up with the Orchestra to perform memorable tunes from modern musicals\, including Hamilton and Rent\, plus the great Stephen Sondheim’s songs from Sweeney Todd and Company.
URL:https://exploredowntownyyc.com/event-calendar/broadway-hits-hamilton-rent-more/2026-05-30/
LOCATION:Jack Singer Concert Hall\, 225 Eighth Ave. S.E.\, Calgary\, Alberta
CATEGORIES:Music & Concerts
ATTACH;FMTTYPE=image/png:https://exploredowntownyyc.com/wp-content/uploads/2026/04/Calgary-Phil-Broadway.png
END:VEVENT
BEGIN:VEVENT
DTSTART;TZID=UTC:20260531T100000
DTEND;TZID=UTC:20260531T133000
DTSTAMP:20260423T071926
CREATED:20260324T144454Z
LAST-MODIFIED:20260324T144454Z
UID:10002751-1780221600-1780234200@exploredowntownyyc.com
SUMMARY:High Tea at the zoo
DESCRIPTION:High Tea at the zoo is a full day of spring fun\, perfect for all ages. Don’t miss out on this elegant affair in Grazers Restaurant on select Sundays from April 12th to May 31st\, 2026. (April 12\, 19\, 26\, May 3\, 17\, 24\, 31)
URL:https://exploredowntownyyc.com/event-calendar/high-tea-at-the-zoo/2026-05-31/
LOCATION:The Wilder Institute/Calgary Zoo\, 210 St. George's Drive NW\, Calgary\, Alberta\, T2E7V6\, Canada
ATTACH;FMTTYPE=image/jpeg:https://exploredowntownyyc.com/wp-content/uploads/2026/03/Calgary-Zoo-High-Tea.jpg
END:VEVENT
BEGIN:VEVENT
DTSTART;TZID=UTC:20260601T153000
DTEND;TZID=UTC:20260601T180000
DTSTAMP:20260423T071926
CREATED:20260324T174827Z
LAST-MODIFIED:20260324T220154Z
UID:10002779-1780327800-1780336800@exploredowntownyyc.com
SUMMARY:Downtown Tutoring Club
DESCRIPTION:Need help with homework? Our free drop-in tutoring program downtown is for junior high and high school students. RSVP your spot or come in when you can. Our tutors walk around and help with English\, math\, and science\, whether you have one small question or a lot to work on. It’s a relaxed\, friendly place to get help\, learn more\, and feel better about school. Walk-ins welcome. Email goodneighbouryyc@gmail.com for more information.
URL:https://exploredowntownyyc.com/event-calendar/downtown-tutoring-club/2026-06-01/
LOCATION:Various Locations
ATTACH;FMTTYPE=image/png:https://exploredowntownyyc.com/wp-content/uploads/2026/03/DT_Tutor.png
END:VEVENT
BEGIN:VEVENT
DTSTART;TZID=UTC:20260604T153000
DTEND;TZID=UTC:20260604T180000
DTSTAMP:20260423T071926
CREATED:20260324T174827Z
LAST-MODIFIED:20260324T220154Z
UID:10002780-1780587000-1780596000@exploredowntownyyc.com
SUMMARY:Downtown Tutoring Club
DESCRIPTION:Need help with homework? Our free drop-in tutoring program downtown is for junior high and high school students. RSVP your spot or come in when you can. Our tutors walk around and help with English\, math\, and science\, whether you have one small question or a lot to work on. It’s a relaxed\, friendly place to get help\, learn more\, and feel better about school. Walk-ins welcome. Email goodneighbouryyc@gmail.com for more information.
URL:https://exploredowntownyyc.com/event-calendar/downtown-tutoring-club/2026-06-04/
LOCATION:Various Locations
ATTACH;FMTTYPE=image/png:https://exploredowntownyyc.com/wp-content/uploads/2026/03/DT_Tutor.png
END:VEVENT
BEGIN:VEVENT
DTSTART;TZID=UTC:20260606T110000
DTEND;TZID=UTC:20260606T130000
DTSTAMP:20260423T071926
CREATED:20260422T214434Z
LAST-MODIFIED:20260422T214434Z
UID:10002859-1780743600-1780750800@exploredowntownyyc.com
SUMMARY:East Village Public Art Experience
DESCRIPTION:Discover the artistic gems of Calgary’s East Village through a guided experience that brings public art to life. Learn the history behind iconic public installations and contribute to public art at The Confluence’s free graffiti wall. May 2\, June 6\, July 18\, Aug. 1\, Sept. 5
URL:https://exploredowntownyyc.com/event-calendar/east-village-public-art-experience/2026-06-06/
LOCATION:The Confluence Historic Site & Parkland\, 750 Ninth Ave. S.E.\, Calgary\, Alberta\, T2G 5E1\, Canada
CATEGORIES:Galleries & Exhibitions,Museums
ATTACH;FMTTYPE=image/jpeg:https://exploredowntownyyc.com/wp-content/uploads/2026/04/East-Village-Public-Art-Experience.jpg
END:VEVENT
BEGIN:VEVENT
DTSTART;TZID=UTC:20260606T183000
DTEND;TZID=UTC:20260606T193000
DTSTAMP:20260423T071926
CREATED:20260422T192004Z
LAST-MODIFIED:20260422T192004Z
UID:10002823-1780770600-1780774200@exploredowntownyyc.com
SUMMARY:Candlelight Jazz: The Best of Frank Sinatra & Nat King Cole
DESCRIPTION:Candlelight concerts bring the magic of a live\, multi-sensory musical experience to awe-inspiring locations like never seen before in Calgary. Get your tickets now to discover the music of Frank Sinatra and Nat King Cole at Studio Bell\, home of the National Music Centre\, under the gentle glow of candlelight.
URL:https://exploredowntownyyc.com/event-calendar/candlelight-jazz-the-best-of-frank-sinatra-nat-king-cole-2/
LOCATION:Studio Bell – National Music Centre\, 300 - 851 Fourth St. S.E.\, Calgary\, Alberta
CATEGORIES:Music & Concerts
ATTACH;FMTTYPE=image/jpeg:https://exploredowntownyyc.com/wp-content/uploads/2026/02/StudioBell_2024_CandlelightConcerts_1_GENERAL_web-e1771872330339.jpg
END:VEVENT
BEGIN:VEVENT
DTSTART;TZID=UTC:20260608T153000
DTEND;TZID=UTC:20260608T180000
DTSTAMP:20260423T071926
CREATED:20260324T174827Z
LAST-MODIFIED:20260324T220154Z
UID:10002781-1780932600-1780941600@exploredowntownyyc.com
SUMMARY:Downtown Tutoring Club
DESCRIPTION:Need help with homework? Our free drop-in tutoring program downtown is for junior high and high school students. RSVP your spot or come in when you can. Our tutors walk around and help with English\, math\, and science\, whether you have one small question or a lot to work on. It’s a relaxed\, friendly place to get help\, learn more\, and feel better about school. Walk-ins welcome. Email goodneighbouryyc@gmail.com for more information.
URL:https://exploredowntownyyc.com/event-calendar/downtown-tutoring-club/2026-06-08/
LOCATION:Various Locations
ATTACH;FMTTYPE=image/png:https://exploredowntownyyc.com/wp-content/uploads/2026/03/DT_Tutor.png
END:VEVENT
BEGIN:VEVENT
DTSTART;TZID=UTC:20260611T153000
DTEND;TZID=UTC:20260611T180000
DTSTAMP:20260423T071926
CREATED:20260324T174827Z
LAST-MODIFIED:20260324T220154Z
UID:10002782-1781191800-1781200800@exploredowntownyyc.com
SUMMARY:Downtown Tutoring Club
DESCRIPTION:Need help with homework? Our free drop-in tutoring program downtown is for junior high and high school students. RSVP your spot or come in when you can. Our tutors walk around and help with English\, math\, and science\, whether you have one small question or a lot to work on. It’s a relaxed\, friendly place to get help\, learn more\, and feel better about school. Walk-ins welcome. Email goodneighbouryyc@gmail.com for more information.
URL:https://exploredowntownyyc.com/event-calendar/downtown-tutoring-club/2026-06-11/
LOCATION:Various Locations
ATTACH;FMTTYPE=image/png:https://exploredowntownyyc.com/wp-content/uploads/2026/03/DT_Tutor.png
END:VEVENT
BEGIN:VEVENT
DTSTART;TZID=UTC:20260612T170000
DTEND;TZID=UTC:20260612T200000
DTSTAMP:20260423T071926
CREATED:20260422T220403Z
LAST-MODIFIED:20260422T220403Z
UID:10002867-1781283600-1781294400@exploredowntownyyc.com
SUMMARY:Spring Garden Globes Dinner
DESCRIPTION:Led by knowledgeable guides\, you’ll take part in an exclusive tour of our grounds\, learning about the wildlife that call us home and our critical conservation efforts. After the tour\, you’ll settle into your private Garden Globe for dinner\, nestled in the gardens and immersed in the sights and sounds of the zoo.
URL:https://exploredowntownyyc.com/event-calendar/spring-garden-globes-dinner/2026-06-12/
LOCATION:Wilder Institute/Calgary Zoo\, 1300 Zoo Rd N.E.\, Calgary\, Alberta
CATEGORIES:Food & Drink
ATTACH;FMTTYPE=image/jpeg:https://exploredowntownyyc.com/wp-content/uploads/2026/04/Calgary-Zoo-Garden-Globes-Dinner.jpg
END:VEVENT
BEGIN:VEVENT
DTSTART;TZID=UTC:20260612T170000
DTEND;TZID=UTC:20260612T220000
DTSTAMP:20260423T071926
CREATED:20260422T181607Z
LAST-MODIFIED:20260422T184331Z
UID:10002838-1781283600-1781301600@exploredowntownyyc.com
SUMMARY:Inglewood Night Market
DESCRIPTION:The Inglewood Night Market is back to take over 10th Avenue SE\, turning the street into a full market with over 60 local artists and food vendors. It’s not something you walk through quickly; there is something happening at every corner. You can expect food trucks\, live music\, and pop-up stalls lining the sidewalks with everything from small-batch treats to handmade goods! (May 8\, June 12\, July 10\, August 14\, September 4 and 11)
URL:https://exploredowntownyyc.com/event-calendar/inglewood-night-market/2026-06-12/
LOCATION:10th avenue and 10th Street SE.\, 10th Ave. and 10th St. S.E.\, Calgary\, Alberta\, Canada
CATEGORIES:Shopping & Markets
ATTACH;FMTTYPE=image/jpeg:https://exploredowntownyyc.com/wp-content/uploads/2026/04/Inglewood-Night-Market.jpg
END:VEVENT
BEGIN:VEVENT
DTSTART;TZID=UTC:20260613T170000
DTEND;TZID=UTC:20260613T200000
DTSTAMP:20260423T071926
CREATED:20260422T220403Z
LAST-MODIFIED:20260422T220403Z
UID:10002868-1781370000-1781380800@exploredowntownyyc.com
SUMMARY:Spring Garden Globes Dinner
DESCRIPTION:Led by knowledgeable guides\, you’ll take part in an exclusive tour of our grounds\, learning about the wildlife that call us home and our critical conservation efforts. After the tour\, you’ll settle into your private Garden Globe for dinner\, nestled in the gardens and immersed in the sights and sounds of the zoo.
URL:https://exploredowntownyyc.com/event-calendar/spring-garden-globes-dinner/2026-06-13/
LOCATION:Wilder Institute/Calgary Zoo\, 1300 Zoo Rd N.E.\, Calgary\, Alberta
CATEGORIES:Food & Drink
ATTACH;FMTTYPE=image/jpeg:https://exploredowntownyyc.com/wp-content/uploads/2026/04/Calgary-Zoo-Garden-Globes-Dinner.jpg
END:VEVENT
BEGIN:VEVENT
DTSTART;TZID=UTC:20260614T170000
DTEND;TZID=UTC:20260614T200000
DTSTAMP:20260423T071926
CREATED:20260422T220403Z
LAST-MODIFIED:20260422T220403Z
UID:10002869-1781456400-1781467200@exploredowntownyyc.com
SUMMARY:Spring Garden Globes Dinner
DESCRIPTION:Led by knowledgeable guides\, you’ll take part in an exclusive tour of our grounds\, learning about the wildlife that call us home and our critical conservation efforts. After the tour\, you’ll settle into your private Garden Globe for dinner\, nestled in the gardens and immersed in the sights and sounds of the zoo.
URL:https://exploredowntownyyc.com/event-calendar/spring-garden-globes-dinner/2026-06-14/
LOCATION:Wilder Institute/Calgary Zoo\, 1300 Zoo Rd N.E.\, Calgary\, Alberta
CATEGORIES:Food & Drink
ATTACH;FMTTYPE=image/jpeg:https://exploredowntownyyc.com/wp-content/uploads/2026/04/Calgary-Zoo-Garden-Globes-Dinner.jpg
END:VEVENT
BEGIN:VEVENT
DTSTART;TZID=UTC:20260615T153000
DTEND;TZID=UTC:20260615T180000
DTSTAMP:20260423T071926
CREATED:20260324T174827Z
LAST-MODIFIED:20260324T220154Z
UID:10002783-1781537400-1781546400@exploredowntownyyc.com
SUMMARY:Downtown Tutoring Club
DESCRIPTION:Need help with homework? Our free drop-in tutoring program downtown is for junior high and high school students. RSVP your spot or come in when you can. Our tutors walk around and help with English\, math\, and science\, whether you have one small question or a lot to work on. It’s a relaxed\, friendly place to get help\, learn more\, and feel better about school. Walk-ins welcome. Email goodneighbouryyc@gmail.com for more information.
URL:https://exploredowntownyyc.com/event-calendar/downtown-tutoring-club/2026-06-15/
LOCATION:Various Locations
ATTACH;FMTTYPE=image/png:https://exploredowntownyyc.com/wp-content/uploads/2026/03/DT_Tutor.png
END:VEVENT
BEGIN:VEVENT
DTSTART;TZID=UTC:20260618T153000
DTEND;TZID=UTC:20260618T180000
DTSTAMP:20260423T071926
CREATED:20260324T174827Z
LAST-MODIFIED:20260324T220154Z
UID:10002784-1781796600-1781805600@exploredowntownyyc.com
SUMMARY:Downtown Tutoring Club
DESCRIPTION:Need help with homework? Our free drop-in tutoring program downtown is for junior high and high school students. RSVP your spot or come in when you can. Our tutors walk around and help with English\, math\, and science\, whether you have one small question or a lot to work on. It’s a relaxed\, friendly place to get help\, learn more\, and feel better about school. Walk-ins welcome. Email goodneighbouryyc@gmail.com for more information.
URL:https://exploredowntownyyc.com/event-calendar/downtown-tutoring-club/2026-06-18/
LOCATION:Various Locations
ATTACH;FMTTYPE=image/png:https://exploredowntownyyc.com/wp-content/uploads/2026/03/DT_Tutor.png
END:VEVENT
BEGIN:VEVENT
DTSTART;TZID=UTC:20260619T170000
DTEND;TZID=UTC:20260619T200000
DTSTAMP:20260423T071926
CREATED:20260422T220403Z
LAST-MODIFIED:20260422T220403Z
UID:10002870-1781888400-1781899200@exploredowntownyyc.com
SUMMARY:Spring Garden Globes Dinner
DESCRIPTION:Led by knowledgeable guides\, you’ll take part in an exclusive tour of our grounds\, learning about the wildlife that call us home and our critical conservation efforts. After the tour\, you’ll settle into your private Garden Globe for dinner\, nestled in the gardens and immersed in the sights and sounds of the zoo.
URL:https://exploredowntownyyc.com/event-calendar/spring-garden-globes-dinner/2026-06-19/
LOCATION:Wilder Institute/Calgary Zoo\, 1300 Zoo Rd N.E.\, Calgary\, Alberta
CATEGORIES:Food & Drink
ATTACH;FMTTYPE=image/jpeg:https://exploredowntownyyc.com/wp-content/uploads/2026/04/Calgary-Zoo-Garden-Globes-Dinner.jpg
END:VEVENT
BEGIN:VEVENT
DTSTART;TZID=UTC:20260620T170000
DTEND;TZID=UTC:20260620T200000
DTSTAMP:20260423T071926
CREATED:20260422T220403Z
LAST-MODIFIED:20260422T220403Z
UID:10002871-1781974800-1781985600@exploredowntownyyc.com
SUMMARY:Spring Garden Globes Dinner
DESCRIPTION:Led by knowledgeable guides\, you’ll take part in an exclusive tour of our grounds\, learning about the wildlife that call us home and our critical conservation efforts. After the tour\, you’ll settle into your private Garden Globe for dinner\, nestled in the gardens and immersed in the sights and sounds of the zoo.
URL:https://exploredowntownyyc.com/event-calendar/spring-garden-globes-dinner/2026-06-20/
LOCATION:Wilder Institute/Calgary Zoo\, 1300 Zoo Rd N.E.\, Calgary\, Alberta
CATEGORIES:Food & Drink
ATTACH;FMTTYPE=image/jpeg:https://exploredowntownyyc.com/wp-content/uploads/2026/04/Calgary-Zoo-Garden-Globes-Dinner.jpg
END:VEVENT
BEGIN:VEVENT
DTSTART;TZID=UTC:20260620T170000
DTEND;TZID=UTC:20260620T220000
DTSTAMP:20260423T071926
CREATED:20260422T175916Z
LAST-MODIFIED:20260422T183737Z
UID:10002833-1781974800-1781992800@exploredowntownyyc.com
SUMMARY:4th Street Night Market
DESCRIPTION:The 4th Street Night Market is located in the heart of The Beltline for 2026. Visit the lively main street neighborhood of 4th Street for food\, fun\, local finds\, & friends at this family-friendly\, free\, pet-friendly night market all summer long! (May 16\, June 20\, July 18\, August 22\, September 19)
URL:https://exploredowntownyyc.com/event-calendar/4th-street-night-market/2026-06-20/
LOCATION:Central Memorial Park\, 1221 Second St. S.W.\, Calgary\, Canada
CATEGORIES:Shopping & Markets
ATTACH;FMTTYPE=image/png:https://exploredowntownyyc.com/wp-content/uploads/2026/04/4th-Street-Night-Market-e1776883048196.png
END:VEVENT
BEGIN:VEVENT
DTSTART;TZID=UTC:20260621T170000
DTEND;TZID=UTC:20260621T200000
DTSTAMP:20260423T071926
CREATED:20260422T220403Z
LAST-MODIFIED:20260422T220403Z
UID:10002872-1782061200-1782072000@exploredowntownyyc.com
SUMMARY:Spring Garden Globes Dinner
DESCRIPTION:Led by knowledgeable guides\, you’ll take part in an exclusive tour of our grounds\, learning about the wildlife that call us home and our critical conservation efforts. After the tour\, you’ll settle into your private Garden Globe for dinner\, nestled in the gardens and immersed in the sights and sounds of the zoo.
URL:https://exploredowntownyyc.com/event-calendar/spring-garden-globes-dinner/2026-06-21/
LOCATION:Wilder Institute/Calgary Zoo\, 1300 Zoo Rd N.E.\, Calgary\, Alberta
CATEGORIES:Food & Drink
ATTACH;FMTTYPE=image/jpeg:https://exploredowntownyyc.com/wp-content/uploads/2026/04/Calgary-Zoo-Garden-Globes-Dinner.jpg
END:VEVENT
BEGIN:VEVENT
DTSTART;TZID=UTC:20260621T183000
DTEND;TZID=UTC:20260621T193000
DTSTAMP:20260423T071926
CREATED:20260324T203958Z
LAST-MODIFIED:20260324T205234Z
UID:10002755-1782066600-1782070200@exploredowntownyyc.com
SUMMARY:Candlelight: The Best of Hans Zimmer
DESCRIPTION:Candlelight concerts bring the magic of a live\, multi-sensory musical experience to awe-inspiring locations like never seen before in Calgary. Discover the music of Hans Zimmer under the gentle glow of candlelight. (May 16 & June 21)
URL:https://exploredowntownyyc.com/event-calendar/candlelight-the-best-of-hans-zimmer-3/
LOCATION:Studio Bell – National Music Centre\, 300 - 851 Fourth St. S.E.\, Calgary\, Alberta
ATTACH;FMTTYPE=image/jpeg:https://exploredowntownyyc.com/wp-content/uploads/2026/03/StudioBell_CandlelightConcerts_Series.jpg
END:VEVENT
BEGIN:VEVENT
DTSTART;TZID=UTC:20260621T203000
DTEND;TZID=UTC:20260621T213000
DTSTAMP:20260423T071926
CREATED:20260324T212927Z
LAST-MODIFIED:20260324T212927Z
UID:10002759-1782073800-1782077400@exploredowntownyyc.com
SUMMARY:Candlelight: Tribute to ABBA
DESCRIPTION:Candlelight concerts bring the magic of a live\, multi-sensory musical experience to awe-inspiring locations like never seen before in Calgary. Discover the music of ABBA at Studio Bell under the gentle glow of candlelight. (April 4 & 24\, May 24\, June 21)
URL:https://exploredowntownyyc.com/event-calendar/candlelight-tribute-to-abba/2026-06-21/
LOCATION:Studio Bell – National Music Centre\, 300 - 851 Fourth St. S.E.\, Calgary\, Alberta
ATTACH;FMTTYPE=image/jpeg:https://exploredowntownyyc.com/wp-content/uploads/2026/03/StudioBell_CandlelightConcerts_Series.jpg
END:VEVENT
BEGIN:VEVENT
DTSTART;TZID=UTC:20260622T153000
DTEND;TZID=UTC:20260622T180000
DTSTAMP:20260423T071926
CREATED:20260324T174827Z
LAST-MODIFIED:20260324T220154Z
UID:10002785-1782142200-1782151200@exploredowntownyyc.com
SUMMARY:Downtown Tutoring Club
DESCRIPTION:Need help with homework? Our free drop-in tutoring program downtown is for junior high and high school students. RSVP your spot or come in when you can. Our tutors walk around and help with English\, math\, and science\, whether you have one small question or a lot to work on. It’s a relaxed\, friendly place to get help\, learn more\, and feel better about school. Walk-ins welcome. Email goodneighbouryyc@gmail.com for more information.
URL:https://exploredowntownyyc.com/event-calendar/downtown-tutoring-club/2026-06-22/
LOCATION:Various Locations
ATTACH;FMTTYPE=image/png:https://exploredowntownyyc.com/wp-content/uploads/2026/03/DT_Tutor.png
END:VEVENT
BEGIN:VEVENT
DTSTART;TZID=UTC:20260625T153000
DTEND;TZID=UTC:20260625T180000
DTSTAMP:20260423T071926
CREATED:20260324T174827Z
LAST-MODIFIED:20260324T220154Z
UID:10002786-1782401400-1782410400@exploredowntownyyc.com
SUMMARY:Downtown Tutoring Club
DESCRIPTION:Need help with homework? Our free drop-in tutoring program downtown is for junior high and high school students. RSVP your spot or come in when you can. Our tutors walk around and help with English\, math\, and science\, whether you have one small question or a lot to work on. It’s a relaxed\, friendly place to get help\, learn more\, and feel better about school. Walk-ins welcome. Email goodneighbouryyc@gmail.com for more information.
URL:https://exploredowntownyyc.com/event-calendar/downtown-tutoring-club/2026-06-25/
LOCATION:Various Locations
ATTACH;FMTTYPE=image/png:https://exploredowntownyyc.com/wp-content/uploads/2026/03/DT_Tutor.png
END:VEVENT
BEGIN:VEVENT
DTSTART;TZID=UTC:20260629T153000
DTEND;TZID=UTC:20260629T180000
DTSTAMP:20260423T071926
CREATED:20260324T174827Z
LAST-MODIFIED:20260324T220154Z
UID:10002787-1782747000-1782756000@exploredowntownyyc.com
SUMMARY:Downtown Tutoring Club
DESCRIPTION:Need help with homework? Our free drop-in tutoring program downtown is for junior high and high school students. RSVP your spot or come in when you can. Our tutors walk around and help with English\, math\, and science\, whether you have one small question or a lot to work on. It’s a relaxed\, friendly place to get help\, learn more\, and feel better about school. Walk-ins welcome. Email goodneighbouryyc@gmail.com for more information.
URL:https://exploredowntownyyc.com/event-calendar/downtown-tutoring-club/2026-06-29/
LOCATION:Various Locations
ATTACH;FMTTYPE=image/png:https://exploredowntownyyc.com/wp-content/uploads/2026/03/DT_Tutor.png
END:VEVENT
BEGIN:VEVENT
DTSTART;TZID=UTC:20260710T170000
DTEND;TZID=UTC:20260710T220000
DTSTAMP:20260423T071926
CREATED:20260422T181607Z
LAST-MODIFIED:20260422T184331Z
UID:10002839-1783702800-1783720800@exploredowntownyyc.com
SUMMARY:Inglewood Night Market
DESCRIPTION:The Inglewood Night Market is back to take over 10th Avenue SE\, turning the street into a full market with over 60 local artists and food vendors. It’s not something you walk through quickly; there is something happening at every corner. You can expect food trucks\, live music\, and pop-up stalls lining the sidewalks with everything from small-batch treats to handmade goods! (May 8\, June 12\, July 10\, August 14\, September 4 and 11)
URL:https://exploredowntownyyc.com/event-calendar/inglewood-night-market/2026-07-10/
LOCATION:10th avenue and 10th Street SE.\, 10th Ave. and 10th St. S.E.\, Calgary\, Alberta\, Canada
CATEGORIES:Shopping & Markets
ATTACH;FMTTYPE=image/jpeg:https://exploredowntownyyc.com/wp-content/uploads/2026/04/Inglewood-Night-Market.jpg
END:VEVENT
END:VCALENDAR