BEGIN:VCALENDAR
VERSION:2.0
PRODID:-//Explore Downtown YYC - ECPv6.15.18//NONSGML v1.0//EN
CALSCALE:GREGORIAN
METHOD:PUBLISH
X-ORIGINAL-URL:https://exploredowntownyyc.com
X-WR-CALDESC:Events for Explore Downtown YYC
REFRESH-INTERVAL;VALUE=DURATION:PT1H
X-Robots-Tag:noindex
X-PUBLISHED-TTL:PT1H
BEGIN:VTIMEZONE
TZID:UTC
BEGIN:STANDARD
TZOFFSETFROM:+0000
TZOFFSETTO:+0000
TZNAME:UTC
DTSTART:20250101T000000
END:STANDARD
END:VTIMEZONE
BEGIN:VEVENT
DTSTART;TZID=UTC:20260502T193000
DTEND;TZID=UTC:20260502T193000
DTSTAMP:20260423T135123
CREATED:20260423T133509Z
LAST-MODIFIED:20260423T133509Z
UID:10002809-1777750200-1777750200@exploredowntownyyc.com
SUMMARY:Alberta in Harmony: The Planets
DESCRIPTION:Experience an epic orchestral collaboration as the Calgary Philharmonic Orchestra joins the Edmonton Symphony Orchestra for Alberta in Harmony: The Planets at Jack Singer Concert Hall. This powerful program features John Luther Adams’ immersive Become Ocean alongside Gustav Holst’s iconic The Planets\, delivering an evening of awe‑inspiring sound and celestial storytelling.
URL:https://exploredowntownyyc.com/event-calendar/alberta-in-harmony-the-planets/
LOCATION:Jack Singer Concert Hall\, 225 Eighth Ave. S.E.\, Calgary\, Alberta
CATEGORIES:Music & Concerts
ATTACH;FMTTYPE=image/png:https://exploredowntownyyc.com/wp-content/uploads/2026/04/2526_Web_ConcertImages_36_ESOPlanets_840x530.png
END:VEVENT
BEGIN:VEVENT
DTSTART;TZID=UTC:20260506T100000
DTEND;TZID=UTC:20260506T110000
DTSTAMP:20260423T135123
CREATED:20260422T190909Z
LAST-MODIFIED:20260422T191237Z
UID:10002849-1778061600-1778065200@exploredowntownyyc.com
SUMMARY:Education Concert: Wandering with Wonder
DESCRIPTION:Through this story with film by Roadwest Pictures\, we learn we all have a little Wonder in each of us\, which allows us to speak to the animals and listen to the trees. And when we are silent\, we can hear our songs in the wind. (May 6 & 7)
URL:https://exploredowntownyyc.com/event-calendar/education-concert-wandering-with-wonder/2026-05-06/3/
LOCATION:Jack Singer Concert Hall\, 225 Eighth Ave. S.E.\, Calgary\, Alberta
CATEGORIES:Music & Concerts
ATTACH;FMTTYPE=image/png:https://exploredowntownyyc.com/wp-content/uploads/2026/04/Calgary-Phil-Wandering.png
END:VEVENT
BEGIN:VEVENT
DTSTART;TZID=UTC:20260506T120000
DTEND;TZID=UTC:20260506T130000
DTSTAMP:20260423T135123
CREATED:20260422T190909Z
LAST-MODIFIED:20260422T191237Z
UID:10002850-1778068800-1778072400@exploredowntownyyc.com
SUMMARY:Education Concert: Wandering with Wonder
DESCRIPTION:Through this story with film by Roadwest Pictures\, we learn we all have a little Wonder in each of us\, which allows us to speak to the animals and listen to the trees. And when we are silent\, we can hear our songs in the wind. (May 6 & 7)
URL:https://exploredowntownyyc.com/event-calendar/education-concert-wandering-with-wonder/2026-05-06/2/
LOCATION:Jack Singer Concert Hall\, 225 Eighth Ave. S.E.\, Calgary\, Alberta
CATEGORIES:Music & Concerts
ATTACH;FMTTYPE=image/png:https://exploredowntownyyc.com/wp-content/uploads/2026/04/Calgary-Phil-Wandering.png
END:VEVENT
BEGIN:VEVENT
DTSTART;TZID=UTC:20260507T100000
DTEND;TZID=UTC:20260507T110000
DTSTAMP:20260423T135123
CREATED:20260422T190909Z
LAST-MODIFIED:20260422T191237Z
UID:10002851-1778148000-1778151600@exploredowntownyyc.com
SUMMARY:Education Concert: Wandering with Wonder
DESCRIPTION:Through this story with film by Roadwest Pictures\, we learn we all have a little Wonder in each of us\, which allows us to speak to the animals and listen to the trees. And when we are silent\, we can hear our songs in the wind. (May 6 & 7)
URL:https://exploredowntownyyc.com/event-calendar/education-concert-wandering-with-wonder/2026-05-07/
LOCATION:Jack Singer Concert Hall\, 225 Eighth Ave. S.E.\, Calgary\, Alberta
CATEGORIES:Music & Concerts
ATTACH;FMTTYPE=image/png:https://exploredowntownyyc.com/wp-content/uploads/2026/04/Calgary-Phil-Wandering.png
END:VEVENT
BEGIN:VEVENT
DTSTART;TZID=UTC:20260508T193000
DTEND;TZID=UTC:20260508T213000
DTSTAMP:20260423T135123
CREATED:20260422T190444Z
LAST-MODIFIED:20260422T190444Z
UID:10002825-1778268600-1778275800@exploredowntownyyc.com
SUMMARY:Postcards from Italy
DESCRIPTION:Take a musical journey with the Calgary Phil to beautiful Italy with conductor Cosette Justo Valdés as your guide — from Stravinsky’s take on Pulcinella\, a traditional character of the Neapolitan stage\, to Mendelssohn’s Italian Symphony
URL:https://exploredowntownyyc.com/event-calendar/postcards-from-italy/
LOCATION:Jack Singer Concert Hall\, 225 Eighth Ave. S.E.\, Calgary\, Alberta
CATEGORIES:Music & Concerts
ATTACH;FMTTYPE=image/png:https://exploredowntownyyc.com/wp-content/uploads/2026/04/Calgary-Phil-Italy.png
END:VEVENT
BEGIN:VEVENT
DTSTART;TZID=UTC:20260508T200000
DTEND;TZID=UTC:20260508T200000
DTSTAMP:20260423T135123
CREATED:20260423T132240Z
LAST-MODIFIED:20260423T132240Z
UID:10002811-1778270400-1778270400@exploredowntownyyc.com
SUMMARY:Triumph: Rock & Roll Machine Reloaded
DESCRIPTION:Rock legends Triumph bring their Rock & Roll Machine Reloaded tour to Calgary for a high‑energy night of classic rock at the Scotiabank Saddledome. Expect iconic anthems\, soaring guitar solos\, and arena‑filling sound from one of Canada’s most celebrated rock bands.
URL:https://exploredowntownyyc.com/event-calendar/triumph-rock-roll-machine-reloaded/
LOCATION:Scotiabank Saddledome\, 555 Saddledome Rise S.E.\, Calgary\, Alberta
CATEGORIES:Music & Concerts
ATTACH;FMTTYPE=image/webp:https://exploredowntownyyc.com/wp-content/uploads/2026/04/2026_2026-triumph-concert-saddledome.webp
END:VEVENT
BEGIN:VEVENT
DTSTART;TZID=UTC:20260522T193000
DTEND;TZID=UTC:20260522T213000
DTSTAMP:20260423T135123
CREATED:20260422T190126Z
LAST-MODIFIED:20260422T190126Z
UID:10002847-1779478200-1779485400@exploredowntownyyc.com
SUMMARY:Mahler's First Symphony
DESCRIPTION:Discover Mahler’s mighty First Symphony as the Calgary Phil\, conducted by Earl Lee\, perform this orchestral epic that takes you from the joys of springtime
URL:https://exploredowntownyyc.com/event-calendar/mahlers-first-symphony/2026-05-22/
LOCATION:Jack Singer Concert Hall\, 225 Eighth Ave. S.E.\, Calgary\, Alberta
CATEGORIES:Music & Concerts
ATTACH;FMTTYPE=image/png:https://exploredowntownyyc.com/wp-content/uploads/2026/04/Calgary-Phil-Mahler.png
END:VEVENT
BEGIN:VEVENT
DTSTART;TZID=UTC:20260523T193000
DTEND;TZID=UTC:20260523T213000
DTSTAMP:20260423T135123
CREATED:20260422T190126Z
LAST-MODIFIED:20260422T190126Z
UID:10002848-1779564600-1779571800@exploredowntownyyc.com
SUMMARY:Mahler's First Symphony
DESCRIPTION:Discover Mahler’s mighty First Symphony as the Calgary Phil\, conducted by Earl Lee\, perform this orchestral epic that takes you from the joys of springtime
URL:https://exploredowntownyyc.com/event-calendar/mahlers-first-symphony/2026-05-23/
LOCATION:Jack Singer Concert Hall\, 225 Eighth Ave. S.E.\, Calgary\, Alberta
CATEGORIES:Music & Concerts
ATTACH;FMTTYPE=image/png:https://exploredowntownyyc.com/wp-content/uploads/2026/04/Calgary-Phil-Mahler.png
END:VEVENT
BEGIN:VEVENT
DTSTART;TZID=UTC:20260529T193000
DTEND;TZID=UTC:20260529T213000
DTSTAMP:20260423T135123
CREATED:20260422T185531Z
LAST-MODIFIED:20260422T185719Z
UID:10002845-1780083000-1780090200@exploredowntownyyc.com
SUMMARY:Broadway Hits: Hamilton\, Rent + More!
DESCRIPTION:Juliane Gallant and two marvellous vocal stars team up with the Orchestra to perform memorable tunes from modern musicals\, including Hamilton and Rent\, plus the great Stephen Sondheim’s songs from Sweeney Todd and Company.
URL:https://exploredowntownyyc.com/event-calendar/broadway-hits-hamilton-rent-more/2026-05-29/
LOCATION:Jack Singer Concert Hall\, 225 Eighth Ave. S.E.\, Calgary\, Alberta
CATEGORIES:Music & Concerts
ATTACH;FMTTYPE=image/png:https://exploredowntownyyc.com/wp-content/uploads/2026/04/Calgary-Phil-Broadway.png
END:VEVENT
BEGIN:VEVENT
DTSTART;TZID=UTC:20260530T193000
DTEND;TZID=UTC:20260530T213000
DTSTAMP:20260423T135123
CREATED:20260422T185531Z
LAST-MODIFIED:20260422T185719Z
UID:10002846-1780169400-1780176600@exploredowntownyyc.com
SUMMARY:Broadway Hits: Hamilton\, Rent + More!
DESCRIPTION:Juliane Gallant and two marvellous vocal stars team up with the Orchestra to perform memorable tunes from modern musicals\, including Hamilton and Rent\, plus the great Stephen Sondheim’s songs from Sweeney Todd and Company.
URL:https://exploredowntownyyc.com/event-calendar/broadway-hits-hamilton-rent-more/2026-05-30/
LOCATION:Jack Singer Concert Hall\, 225 Eighth Ave. S.E.\, Calgary\, Alberta
CATEGORIES:Music & Concerts
ATTACH;FMTTYPE=image/png:https://exploredowntownyyc.com/wp-content/uploads/2026/04/Calgary-Phil-Broadway.png
END:VEVENT
BEGIN:VEVENT
DTSTART;TZID=UTC:20260606T183000
DTEND;TZID=UTC:20260606T193000
DTSTAMP:20260423T135123
CREATED:20260422T192004Z
LAST-MODIFIED:20260422T192004Z
UID:10002823-1780770600-1780774200@exploredowntownyyc.com
SUMMARY:Candlelight Jazz: The Best of Frank Sinatra & Nat King Cole
DESCRIPTION:Candlelight concerts bring the magic of a live\, multi-sensory musical experience to awe-inspiring locations like never seen before in Calgary. Get your tickets now to discover the music of Frank Sinatra and Nat King Cole at Studio Bell\, home of the National Music Centre\, under the gentle glow of candlelight.
URL:https://exploredowntownyyc.com/event-calendar/candlelight-jazz-the-best-of-frank-sinatra-nat-king-cole-2/
LOCATION:Studio Bell – National Music Centre\, 300 - 851 Fourth St. S.E.\, Calgary\, Alberta
CATEGORIES:Music & Concerts
ATTACH;FMTTYPE=image/jpeg:https://exploredowntownyyc.com/wp-content/uploads/2026/02/StudioBell_2024_CandlelightConcerts_1_GENERAL_web-e1771872330339.jpg
END:VEVENT
END:VCALENDAR