BEGIN:VCALENDAR
VERSION:2.0
PRODID:-//Explore Downtown YYC - ECPv6.15.18//NONSGML v1.0//EN
CALSCALE:GREGORIAN
METHOD:PUBLISH
X-ORIGINAL-URL:https://exploredowntownyyc.com
X-WR-CALDESC:Events for Explore Downtown YYC
REFRESH-INTERVAL;VALUE=DURATION:PT1H
X-Robots-Tag:noindex
X-PUBLISHED-TTL:PT1H
BEGIN:VTIMEZONE
TZID:UTC
BEGIN:STANDARD
TZOFFSETFROM:+0000
TZOFFSETTO:+0000
TZNAME:UTC
DTSTART:20250101T000000
END:STANDARD
END:VTIMEZONE
BEGIN:VEVENT
DTSTART;VALUE=DATE:20260429
DTEND;VALUE=DATE:20260506
DTSTAMP:20260419T221119
CREATED:20260323T161740Z
LAST-MODIFIED:20260323T172017Z
UID:10002739-1777420800-1778025599@exploredowntownyyc.com
SUMMARY:International Jazz Days Festival
DESCRIPTION:It all happens starting April 29 at some of Calgary’s finest music venues. JazzYYC’s International Jazz Days Festival features some of the finest musicians from here and around the world.
URL:https://exploredowntownyyc.com/event-calendar/international-jazz-days-festival/
LOCATION:Various Locations
CATEGORIES:Music & Concerts
ATTACH;FMTTYPE=image/jpeg:https://exploredowntownyyc.com/wp-content/uploads/2026/03/International_Jazz_Days_white_BG-1.jpg
END:VEVENT
END:VCALENDAR