BEGIN:VCALENDAR
VERSION:2.0
PRODID:-//Explore Downtown YYC - ECPv6.15.18//NONSGML v1.0//EN
CALSCALE:GREGORIAN
METHOD:PUBLISH
X-WR-CALNAME:Explore Downtown YYC
X-ORIGINAL-URL:https://exploredowntownyyc.com
X-WR-CALDESC:Events for Explore Downtown YYC
REFRESH-INTERVAL;VALUE=DURATION:PT1H
X-Robots-Tag:noindex
X-PUBLISHED-TTL:PT1H
BEGIN:VTIMEZONE
TZID:UTC
BEGIN:STANDARD
TZOFFSETFROM:+0000
TZOFFSETTO:+0000
TZNAME:UTC
DTSTART:20250101T000000
END:STANDARD
END:VTIMEZONE
BEGIN:VEVENT
DTSTART;TZID=UTC:20260308T000000
DTEND;TZID=UTC:20260309T000000
DTSTAMP:20260422T020956
CREATED:20260223T215602Z
LAST-MODIFIED:20260223T215602Z
UID:10002621-1772928000-1773014400@exploredowntownyyc.com
SUMMARY:Jess Cramp The Untold Story of Sharks
DESCRIPTION:Jess Cramp: The Untold Story of Sharks dives into the surprising\, often overlooked realities of shark conservation through the eyes of renowned researcher and National Geographic Explorer Jess Cramp. Blending science\, storytelling\, and adventure\, she reveals what’s really happening beneath the surface and why these misunderstood predators need our protection now more than ever.
URL:https://exploredowntownyyc.com/event-calendar/jess-cramp-the-untold-story-of-sharks/2026-03-08/
LOCATION:Alberta
CATEGORIES:Film & Movies
ATTACH;FMTTYPE=image/jpeg:https://exploredowntownyyc.com/wp-content/uploads/2026/02/NGL-Cramp_EventBanner-1.jpg
END:VEVENT
BEGIN:VEVENT
DTSTART;VALUE=DATE:20260320
DTEND;VALUE=DATE:20260322
DTSTAMP:20260422T020956
CREATED:20260305T205556Z
LAST-MODIFIED:20260305T205556Z
UID:10002692-1773964800-1774137599@exploredowntownyyc.com
SUMMARY:Neechi Clan Weekend Takeover
DESCRIPTION:A free two-day event with Neechi Clan bringing Indigenous youth and young adults together for gaming\, content creation\, and career workshops\, ending with a community esports tournament.
URL:https://exploredowntownyyc.com/event-calendar/neechi-clan-weekend-takeover/
LOCATION:Bow Valley College\, 345 Sixth Ave. S.E.\, Calgary\, Alberta\, T2G 4V1\, Canada
CATEGORIES:Family-Friendly,Festivals & Events,Film & Movies,Sports & Fitness,Theatre & Performing Arts
ATTACH;FMTTYPE=image/png:https://exploredowntownyyc.com/wp-content/uploads/2026/03/NCWT-header-image.png
END:VEVENT
BEGIN:VEVENT
DTSTART;VALUE=DATE:20260416
DTEND;VALUE=DATE:20260427
DTSTAMP:20260422T020956
CREATED:20260225T170518Z
LAST-MODIFIED:20260323T155624Z
UID:10002691-1776297600-1777247999@exploredowntownyyc.com
SUMMARY:23rd Calgary Underground Film Festival (CUFF)
DESCRIPTION:The Calgary Underground Film Festival (CUFF) celebrates its 23rd edition with a diverse selection of films that defy convention — features\, documentaries\, animations and shorts across horror\, comedy\, sci-fi and everything in between.
URL:https://exploredowntownyyc.com/event-calendar/23rd-calgary-underground-film-festival-cuff/
LOCATION:Globe Cinema\, 617 8 Ave S.W.\, Calgary\, Alberta
CATEGORIES:Festivals & Events,Film & Movies
ATTACH;FMTTYPE=image/jpeg:https://exploredowntownyyc.com/wp-content/uploads/2026/02/calgary-international-film-fest-2026-e1772039112988.jpg
END:VEVENT
END:VCALENDAR