BEGIN:VCALENDAR
VERSION:2.0
PRODID:-//Explore Downtown YYC - ECPv6.15.18//NONSGML v1.0//EN
CALSCALE:GREGORIAN
METHOD:PUBLISH
X-WR-CALNAME:Explore Downtown YYC
X-ORIGINAL-URL:https://exploredowntownyyc.com
X-WR-CALDESC:Events for Explore Downtown YYC
REFRESH-INTERVAL;VALUE=DURATION:PT1H
X-Robots-Tag:noindex
X-PUBLISHED-TTL:PT1H
BEGIN:VTIMEZONE
TZID:UTC
BEGIN:STANDARD
TZOFFSETFROM:+0000
TZOFFSETTO:+0000
TZNAME:UTC
DTSTART:20250101T000000
END:STANDARD
END:VTIMEZONE
BEGIN:VEVENT
DTSTART;VALUE=DATE:20260416
DTEND;VALUE=DATE:20260427
DTSTAMP:20260421T144800
CREATED:20260225T170518Z
LAST-MODIFIED:20260323T155624Z
UID:10002691-1776297600-1777247999@exploredowntownyyc.com
SUMMARY:23rd Calgary Underground Film Festival (CUFF)
DESCRIPTION:The Calgary Underground Film Festival (CUFF) celebrates its 23rd edition with a diverse selection of films that defy convention — features\, documentaries\, animations and shorts across horror\, comedy\, sci-fi and everything in between.
URL:https://exploredowntownyyc.com/event-calendar/23rd-calgary-underground-film-festival-cuff/
LOCATION:Globe Cinema\, 617 8 Ave S.W.\, Calgary\, Alberta
CATEGORIES:Festivals & Events,Film & Movies
ATTACH;FMTTYPE=image/jpeg:https://exploredowntownyyc.com/wp-content/uploads/2026/02/calgary-international-film-fest-2026-e1772039112988.jpg
END:VEVENT
END:VCALENDAR