BEGIN:VCALENDAR
VERSION:2.0
PRODID:-//Explore Downtown YYC - ECPv6.15.18//NONSGML v1.0//EN
CALSCALE:GREGORIAN
METHOD:PUBLISH
X-WR-CALNAME:Explore Downtown YYC
X-ORIGINAL-URL:https://exploredowntownyyc.com
X-WR-CALDESC:Events for Explore Downtown YYC
REFRESH-INTERVAL;VALUE=DURATION:PT1H
X-Robots-Tag:noindex
X-PUBLISHED-TTL:PT1H
BEGIN:VTIMEZONE
TZID:UTC
BEGIN:STANDARD
TZOFFSETFROM:+0000
TZOFFSETTO:+0000
TZNAME:UTC
DTSTART:20240101T000000
END:STANDARD
END:VTIMEZONE
BEGIN:VEVENT
DTSTART;TZID=UTC:20251210T183000
DTEND;TZID=UTC:20251210T203000
DTSTAMP:20260421T212615
CREATED:20251120T222240Z
LAST-MODIFIED:20251120T222240Z
UID:10002367-1765391400-1765398600@exploredowntownyyc.com
SUMMARY:Cult Classics & Crafts: National Lampoon’s Christmas Vacation (1989)
DESCRIPTION:Combine creativity and nostalgia with an evening of crafting while enjoying a beloved cult classic film. Bring your own supplies\, settle in\, and connect with fellow crafters and movie fans for a fun\, laid-back experience.
URL:https://exploredowntownyyc.com/event-calendar/cult-classics-crafts-national-lampoons-christmas-vacation-1989/
LOCATION:The Confluence Historic Site & Parkland\, 750 Ninth Ave. S.E.\, Calgary\, Alberta\, T2G 5E1\, Canada
CATEGORIES:Family-Friendly,Film & Movies
ATTACH;FMTTYPE=image/jpeg:https://exploredowntownyyc.com/wp-content/uploads/2025/11/Cult-Classics-and-Crafts-1.jpg
END:VEVENT
END:VCALENDAR