BEGIN:VCALENDAR
VERSION:2.0
PRODID:-//Explore Downtown YYC - ECPv6.15.18//NONSGML v1.0//EN
CALSCALE:GREGORIAN
METHOD:PUBLISH
X-WR-CALNAME:Explore Downtown YYC
X-ORIGINAL-URL:https://exploredowntownyyc.com
X-WR-CALDESC:Events for Explore Downtown YYC
REFRESH-INTERVAL;VALUE=DURATION:PT1H
X-Robots-Tag:noindex
X-PUBLISHED-TTL:PT1H
BEGIN:VTIMEZONE
TZID:UTC
BEGIN:STANDARD
TZOFFSETFROM:+0000
TZOFFSETTO:+0000
TZNAME:UTC
DTSTART:20250101T000000
END:STANDARD
END:VTIMEZONE
BEGIN:VEVENT
DTSTART;TZID=UTC:20260209T190000
DTEND;TZID=UTC:20260209T210000
DTSTAMP:20260421T163222
CREATED:20260202T154455Z
LAST-MODIFIED:20260202T154455Z
UID:10002612-1770663600-1770670800@exploredowntownyyc.com
SUMMARY:Black History Month: We Are the Roots Film Screening
DESCRIPTION:Join us for a special screening of We Are the Roots a film that tells the story of a wave of African American immigrants who moved to Alberta and Saskatchewan between 1905-1912 to escape racism and persecution in the United States.
URL:https://exploredowntownyyc.com/event-calendar/black-history-month-we-are-the-roots-film-screening/
LOCATION:Central Library\, 800 3 St S.E.\, Calgary\, Alberta
CATEGORIES:Film & Movies
ATTACH;FMTTYPE=image/jpeg:https://exploredowntownyyc.com/wp-content/uploads/2026/02/Black-History-Month-Roots-Film-Screen-1300x600-1-e1770047087362.jpg
END:VEVENT
BEGIN:VEVENT
DTSTART;TZID=UTC:20260214T173000
DTEND;TZID=UTC:20260214T210000
DTSTAMP:20260421T163222
CREATED:20260121T204754Z
LAST-MODIFIED:20260121T204925Z
UID:10002582-1771090200-1771102800@exploredowntownyyc.com
SUMMARY:Romeo + Juliet | Valentine's at The GRAND
DESCRIPTION:On Valentine’s Day\, Baz Luhrmann’s bold\, kinetic reimagining of Shakespeare’s tragic romance lights up The GRAND. Portland Street Pizza will be serving their signature square slices and drinks and popcorn will be available.
URL:https://exploredowntownyyc.com/event-calendar/romeo-juliet-valentines-at-the-grand/
LOCATION:The GRAND\, 608 First St. S.W.\, Calgary\, Alberta\, T2P 1M6\, Canada
CATEGORIES:Film & Movies
ATTACH;FMTTYPE=image/png:https://exploredowntownyyc.com/wp-content/uploads/2026/01/romeo-juliette-event.png
END:VEVENT
BEGIN:VEVENT
DTSTART;TZID=UTC:20260220T173000
DTEND;TZID=UTC:20260220T210000
DTSTAMP:20260421T163222
CREATED:20260121T204502Z
LAST-MODIFIED:20260121T204502Z
UID:10002583-1771608600-1771621200@exploredowntownyyc.com
SUMMARY:Do the Right Thing | The GRAND
DESCRIPTION:Directed by Spike Lee\, Do the Right Thing is a bold\, vibrant\, and fiercely unforgettable exploration of community\, conflict\, and cultural tension on a scorching Brooklyn summer day. Uncle Fatih’s Pizza will be selling pizza by the slice and drinks and popcorn will be available.
URL:https://exploredowntownyyc.com/event-calendar/do-the-right-thing-the-grand/
LOCATION:The GRAND\, 608 First St. S.W.\, Calgary\, Alberta\, T2P 1M6\, Canada
CATEGORIES:Film & Movies
ATTACH;FMTTYPE=image/png:https://exploredowntownyyc.com/wp-content/uploads/2026/01/do-the-right-thing-event.png
END:VEVENT
END:VCALENDAR