BEGIN:VCALENDAR
VERSION:2.0
PRODID:-//Explore Downtown YYC - ECPv6.15.18//NONSGML v1.0//EN
CALSCALE:GREGORIAN
METHOD:PUBLISH
X-WR-CALNAME:Explore Downtown YYC
X-ORIGINAL-URL:https://exploredowntownyyc.com
X-WR-CALDESC:Events for Explore Downtown YYC
REFRESH-INTERVAL;VALUE=DURATION:PT1H
X-Robots-Tag:noindex
X-PUBLISHED-TTL:PT1H
BEGIN:VTIMEZONE
TZID:UTC
BEGIN:STANDARD
TZOFFSETFROM:+0000
TZOFFSETTO:+0000
TZNAME:UTC
DTSTART:20240101T000000
END:STANDARD
END:VTIMEZONE
BEGIN:VEVENT
DTSTART;TZID=UTC:20251206T180000
DTEND;TZID=UTC:20251206T220000
DTSTAMP:20260421T194522
CREATED:20251120T212416Z
LAST-MODIFIED:20251120T212416Z
UID:10002389-1765044000-1765058400@exploredowntownyyc.com
SUMMARY:Black Excellence Film Series: Last Holiday
DESCRIPTION:Celebrate Black storytelling with the Black Excellence Film Series. Enjoy Last Holiday\, a panel on “Embracing Life Fully\,” and shop local Black-owned vendors at this vibrant year-end event.
URL:https://exploredowntownyyc.com/event-calendar/black-excellence-film-series-last-holiday/
LOCATION:The Confluence Historic Site & Parkland\, 750 Ninth Ave. S.E.\, Calgary\, Alberta\, T2G 5E1\, Canada
CATEGORIES:Film & Movies
ATTACH;FMTTYPE=image/png:https://exploredowntownyyc.com/wp-content/uploads/2025/11/FB-BEFSDecMOVIE-2025.png
END:VEVENT
BEGIN:VEVENT
DTSTART;TZID=UTC:20251207T140000
DTEND;TZID=UTC:20251207T160000
DTSTAMP:20260421T194522
CREATED:20251120T220312Z
LAST-MODIFIED:20251120T220312Z
UID:10002383-1765116000-1765123200@exploredowntownyyc.com
SUMMARY:Season’s Screenings: The Polar Express (2004)
DESCRIPTION:Get into the festive spirit this holiday season with a selection of nostalgic movies on the big screen at the Burnswest Theatre.
URL:https://exploredowntownyyc.com/event-calendar/seasons-screenings-the-polar-express-2004/
LOCATION:The Confluence Historic Site & Parkland\, 750 Ninth Ave. S.E.\, Calgary\, Alberta\, T2G 5E1\, Canada
CATEGORIES:Family-Friendly,Film & Movies
ATTACH;FMTTYPE=image/png:https://exploredowntownyyc.com/wp-content/uploads/2025/11/Seasons-Screenings-at-The-Confluence-ALL-.png
END:VEVENT
BEGIN:VEVENT
DTSTART;TZID=UTC:20251210T183000
DTEND;TZID=UTC:20251210T203000
DTSTAMP:20260421T194522
CREATED:20251120T222240Z
LAST-MODIFIED:20251120T222240Z
UID:10002367-1765391400-1765398600@exploredowntownyyc.com
SUMMARY:Cult Classics & Crafts: National Lampoon’s Christmas Vacation (1989)
DESCRIPTION:Combine creativity and nostalgia with an evening of crafting while enjoying a beloved cult classic film. Bring your own supplies\, settle in\, and connect with fellow crafters and movie fans for a fun\, laid-back experience.
URL:https://exploredowntownyyc.com/event-calendar/cult-classics-crafts-national-lampoons-christmas-vacation-1989/
LOCATION:The Confluence Historic Site & Parkland\, 750 Ninth Ave. S.E.\, Calgary\, Alberta\, T2G 5E1\, Canada
CATEGORIES:Family-Friendly,Film & Movies
ATTACH;FMTTYPE=image/jpeg:https://exploredowntownyyc.com/wp-content/uploads/2025/11/Cult-Classics-and-Crafts-1.jpg
END:VEVENT
BEGIN:VEVENT
DTSTART;TZID=UTC:20251213T140000
DTEND;TZID=UTC:20251213T160000
DTSTAMP:20260421T194522
CREATED:20251120T220245Z
LAST-MODIFIED:20251120T220245Z
UID:10002384-1765634400-1765641600@exploredowntownyyc.com
SUMMARY:Season’s Screenings: It’s a Wonderful Life (1946)
DESCRIPTION:Get into the festive spirit this holiday season with a selection of nostalgic movies on the big screen at the Burnswest Theatre.
URL:https://exploredowntownyyc.com/event-calendar/seasons-screenings-its-a-wonderful-life-1946/
LOCATION:The Confluence Historic Site & Parkland\, 750 Ninth Ave. S.E.\, Calgary\, Alberta\, T2G 5E1\, Canada
CATEGORIES:Family-Friendly,Film & Movies
ATTACH;FMTTYPE=image/png:https://exploredowntownyyc.com/wp-content/uploads/2025/11/Seasons-Screenings-at-The-Confluence-ALL-.png
END:VEVENT
BEGIN:VEVENT
DTSTART;TZID=UTC:20251214T140000
DTEND;TZID=UTC:20251214T160000
DTSTAMP:20260421T194522
CREATED:20251120T220257Z
LAST-MODIFIED:20251120T220257Z
UID:10002385-1765720800-1765728000@exploredowntownyyc.com
SUMMARY:Season’s Screenings: A Christmas Story (1983)
DESCRIPTION:Get into the festive spirit this holiday season with a selection of nostalgic movies on the big screen at the Burnswest Theatre.
URL:https://exploredowntownyyc.com/event-calendar/seasons-screenings-a-christmas-story-1983/
LOCATION:The Confluence Historic Site & Parkland\, 750 Ninth Ave. S.E.\, Calgary\, Alberta\, T2G 5E1\, Canada
CATEGORIES:Family-Friendly,Film & Movies
ATTACH;FMTTYPE=image/png:https://exploredowntownyyc.com/wp-content/uploads/2025/11/Seasons-Screenings-at-The-Confluence-ALL-.png
END:VEVENT
END:VCALENDAR